{"text_format":"1","workbook":"xlsx","n_sheets":8,"sheets":["Lift Results","Age Factors","Mens Wght Factor","Womens Wght Factor","Classes","Div legend","Module1","Sheet1"],"not_rendered":{"charts":0,"images":0,"macros":1,"external_links":0,"defined_names":7,"comments":0,"pivot_tables":0},"unopened":[],"bounds":{"document_bytes":16777216,"sheet_cells":100000,"rows_first":2000,"rows_last":500,"rows_between":2000,"halvings":0,"cell_chars":16384,"cell_head_chars":4096},"cells_cut":0,"cells_raw":0,"read":"whole","date_system":"1900"}

{"sheet":"Lift Results","index":0,"n_rows":383,"n_cols":17,"rows_kept":383,"cut":false,"hidden":false,"merged":[[348,0,348,15],[254,0,254,15],[296,0,296,15],[305,0,305,15],[314,0,314,15],[338,0,338,15],[87,0,87,15],[189,0,189,15],[221,0,221,15],[0,1,0,4],[3,1,3,4],[4,0,4,15]]}
[null,null,null,null,null,null,{"$f":"IF(ISBLANK(A1),\"\",F1*2.2046)","v":""},null,{"$f":"IF(ISBLANK(A1),\"\",H1*2.2046)","v":""},null,{"$f":"IF(ISBLANK(A1),\"\",J1*2.2046)","v":""},{"$f":"IF(ISBLANK(A1),\"\",F1+H1+J1)","v":""},{"$f":"IF(ISBLANK(A1),\"\",L1*2.2046)","v":""},{"$f":"IF(ISBLANK(A1),\"\",L1*O1*P1)","v":""},{"$f":"IF(ISNUMBER(B1),VLOOKUP(B1,af,2),\"\")","v":""},{"$f":"IF(ISNUMBER(C1),IF(LEFT(E1,1)=\"M\",VLOOKUP(C1,mwf,2),VLOOKUP(C1,wwf,2)),\"\")","v":""}]
[null,null,"BWT","BWT","Division","Squat","Squat","Bench","Bench","Dead","Dead","Total","Total","Coef.","Age Fctr","WgtFctr","Placement"]
["Lifter's Name","Age","(kgs.)","(lbs.)","Format must begin M- or F-","(kgs.)","(lbs.)","(kgs.)","(lbs.)","(kgs.)","(lbs.)","(kgs.)","(lbs.)",null,{"$f":"IF(ISNUMBER(B3),VLOOKUP(B3,af,2),\"\")","v":""},{"$f":"IF(ISNUMBER(C3),IF(LEFT(E3,1)=\"M\",VLOOKUP(C3,mwf,2),VLOOKUP(C3,wwf,2)),\"\")","v":""},"Other comments"]
[null,null,null,null,null,null,{"$f":"IF(ISBLANK(A4),\"\",F4*2.2046)","v":""},null,{"$f":"IF(ISBLANK(A4),\"\",H4*2.2046)","v":""},null,{"$f":"IF(ISBLANK(A4),\"\",J4*2.2046)","v":""},{"$f":"IF(ISBLANK(A4),\"\",F4+H4+J4)","v":""},{"$f":"IF(ISBLANK(A4),\"\",L4*2.2046)","v":""},{"$f":"IF(ISBLANK(A4),\"\",L4*O4*P4)","v":""},{"$f":"IF(ISNUMBER(B4),VLOOKUP(B4,af,2),\"\")","v":""},{"$f":"IF(ISNUMBER(C4),IF(LEFT(E4,1)=\"M\",VLOOKUP(C4,mwf,2),VLOOKUP(C4,wwf,2)),\"\")","v":""}]
["Powerlifting:  Raw Division"]
["Women",null,null,{"$f":"IF(ISBLANK(A6),\"\",C6*2.2046)","v":0},null,null,{"$f":"IF(ISBLANK(A6),\"\",F6*2.2046)","v":0},null,{"$f":"IF(ISBLANK(A6),\"\",H6*2.2046)","v":0},null,{"$f":"IF(ISBLANK(A6),\"\",J6*2.2046)","v":0},{"$f":"IF(ISBLANK(A6),\"\",F6+H6+J6)","v":0},{"$f":"IF(ISBLANK(A6),\"\",L6*2.2046)","v":0},{"$f":"IF(ISBLANK(A6),\"\",L6*O6*P6)","v":{"$error":"#VALUE!"}},{"$f":"IF(ISNUMBER(B6),VLOOKUP(B6,af,2),\"\")","v":""},{"$f":"IF(ISNUMBER(C6),IF(LEFT(E6,1)=\"M\",VLOOKUP(C6,mwf,2),VLOOKUP(C6,wwf,2)),\"\")","v":""}]
["56.0kg/123.4lb Teen T3 (18-19) Women Raw APF",null,null,{"$f":"IF(ISBLANK(A7),\"\",C7*2.2046)","v":0},null,null,{"$f":"IF(ISBLANK(A7),\"\",F7*2.2046)","v":0},null,{"$f":"IF(ISBLANK(A7),\"\",H7*2.2046)","v":0},null,{"$f":"IF(ISBLANK(A7),\"\",J7*2.2046)","v":0},{"$f":"IF(ISBLANK(A7),\"\",F7+H7+J7)","v":0},{"$f":"IF(ISBLANK(A7),\"\",L7*2.2046)","v":0},{"$f":"IF(ISBLANK(A7),\"\",L7*O7*P7)","v":{"$error":"#VALUE!"}},{"$f":"IF(ISNUMBER(B7),VLOOKUP(B7,af,2),\"\")","v":""},{"$f":"IF(ISNUMBER(C7),IF(LEFT(E7,1)=\"M\",VLOOKUP(C7,mwf,2),VLOOKUP(C7,wwf,2)),\"\")","v":""}]
["Bethany Barrett",19,52.4,115.52104,"F-RT3",65,143.29900000000001,50,110.23,null,0,115,253.52900000000002,251.84539999999998,1.06,2.0659999999999998,"DQ (Deadlift)"]
[null,null,null,"",null,null,"",null,"",null,"","","","","",""]
["67.5kg/148.8lb Teen T3 (18-19) Women Raw AAPF",null,null,0,null,null,0,null,0,null,0,0,0,{"$error":"#VALUE!"},"",""]
["Alyssa Kroll",19,63.4,139.77163999999999,"F-RT3",85,187.39100000000002,80,176.36799999999999,125,275.57499999999999,290,639.33400000000006,525.96140000000003,1.06,1.7110000000000001]
[null,null,null,"",null,null,"",null,"",null,"","","","","",""]
["52.0kg/114.6lb Junior (20-23) Women Raw AAPF",null,null,0,null,null,0,null,0,null,0,0,0,{"$error":"#VALUE!"},"",""]
["Collette Smith ",22,51.4,113.31644,"F-RJR",75,165.345,52.5,115.7415,120,264.55200000000002,247.5,545.63850000000002,529.69702500000005,1.01,2.1190000000000002]
[null,null,null,"",null,null,"",null,"",null,"","","","","",""]
["75.0kg/165.4lb Junior (20-23) Women Raw APF",null,null,0,null,null,0,null,0,null,0,0,0,{"$error":"#VALUE!"},"",""]
["Katelyn Prawitt",23,71.8,158.29028,"F-RJR",100,220.46,60,132.27600000000001,137.5,303.13249999999999,297.5,655.86850000000004,470.9425,1,1.583]
[null,null,null,"",null,null,"",null,"",null,"","","","","",""]
["52.0kg/114.6lb Open Women Raw AAPF",null,null,0,null,null,0,null,0,null,0,0,0,{"$error":"#VALUE!"},"",""]
["Collette Smith ",30,51.4,113.31644,"F-RO",75,165.345,52.5,115.7415,120,264.55200000000002,247.5,545.63850000000002,524.4525000000001,1,2.1190000000000002]
[null,null,null,"",null,null,"",null,"",null,"","","","","",""]
["56.0kg/123.4lb Open Women Raw APF",null,null,0,null,null,0,null,0,null,0,0,0,{"$error":"#VALUE!"},"",""]
["Kasey Smith",26,55,121.253,"F-RO",95,209.43700000000001,75,165.345,140,308.64400000000001,310,683.42600000000004,602.02,1,1.9419999999999999]
[null,null,null,"",null,null,"",null,"",null,"","","","","",""]
["67.5kg/148.8lb Open Women Raw AAPF",null,null,0,null,null,0,null,0,null,0,0,0,{"$error":"#VALUE!"},"",""]
["Daniela Des Islets",26,63,138.88980000000001,"F-RO",100,220.46,60,132.27600000000001,115,253.52900000000002,275,606.26499999999999,471.625,1,1.7150000000000001,"Second Place"]
["Heather Otto",35,64.599999999999994,142.41716,"F-RO",85,187.39100000000002,67.5,148.81050000000002,127.5,281.0865,280,617.28800000000001,473.2,1,1.69,"First Place"]
[null,null,null,"",null,null,"",null,"",null,"","","","","",""]
["82.5kg/181.8lb Open Women Raw APF",null,null,0,null,null,0,null,0,null,0,0,0,{"$error":"#VALUE!"},"",""]
["Heidi Saavedra",34,79.599999999999994,175.48615999999998,"F-RO",112.5,248.01750000000001,70,154.322,145,319.66700000000003,327.5,722.00650000000007,491.57749999999999,1,1.5009999999999999,"Second Place"]
["Jamie Toone",26,81.2,179.01352000000003,"F-RO",77.5,170.85650000000001,77.5,170.85650000000001,107.5,236.99450000000002,262.5,578.70749999999998,390.6,1,1.488,"Third Place"]
["Taylor Porter ",30,80,176.36799999999999,"F-RO",152.5,336.20150000000001,80,176.36799999999999,147.5,325.17850000000004,380,837.74800000000005,568.86,1,1.4970000000000001,"First Place"]
[null,null,null,"",null,null,"",null,"",null,"","","","","",""]
["Men",null,null,{"$f":"IF(ISBLANK(A34),\"\",C34*2.2046)","v":0},null,null,{"$f":"IF(ISBLANK(A34),\"\",F34*2.2046)","v":0},null,{"$f":"IF(ISBLANK(A34),\"\",H34*2.2046)","v":0},null,{"$f":"IF(ISBLANK(A34),\"\",J34*2.2046)","v":0},{"$f":"IF(ISBLANK(A34),\"\",F34+H34+J34)","v":0},{"$f":"IF(ISBLANK(A34),\"\",L34*2.2046)","v":0},{"$f":"IF(ISBLANK(A34),\"\",L34*O34*P34)","v":{"$error":"#VALUE!"}},{"$f":"IF(ISNUMBER(B34),VLOOKUP(B34,af,2),\"\")","v":""},{"$f":"IF(ISNUMBER(C34),IF(LEFT(E34,1)=\"M\",VLOOKUP(C34,mwf,2),VLOOKUP(C34,wwf,2)),\"\")","v":""}]
["67.5kg/148.8lb Teen T3 (18-19) Men Raw AAPF",null,null,{"$f":"IF(ISBLANK(A35),\"\",C35*2.2046)","v":0},null,null,{"$f":"IF(ISBLANK(A35),\"\",F35*2.2046)","v":0},null,{"$f":"IF(ISBLANK(A35),\"\",H35*2.2046)","v":0},null,{"$f":"IF(ISBLANK(A35),\"\",J35*2.2046)","v":0},{"$f":"IF(ISBLANK(A35),\"\",F35+H35+J35)","v":0},{"$f":"IF(ISBLANK(A35),\"\",L35*2.2046)","v":0},{"$f":"IF(ISBLANK(A35),\"\",L35*O35*P35)","v":{"$error":"#VALUE!"}},{"$f":"IF(ISNUMBER(B35),VLOOKUP(B35,af,2),\"\")","v":""},{"$f":"IF(ISNUMBER(C35),IF(LEFT(E35,1)=\"M\",VLOOKUP(C35,mwf,2),VLOOKUP(C35,wwf,2)),\"\")","v":""}]
["Joshua LaRe",19,66.3,146.16498000000001,"M-RT3",135,297.62100000000004,100,220.46,195,429.89700000000005,430,947.97800000000007,575.67539999999997,1.06,1.2629999999999999]
[null,null,null,"",null,null,"",null,"",null,"","","","","",""]
["82.5kg/181.8lb Junior (20-23) Men Raw AAPF",null,null,0,null,null,0,null,0,null,0,0,0,{"$error":"#VALUE!"},"",""]
["Joseph Harbold",21,80.3,177.02938,"M-RJR",172.5,380.29349999999999,105,231.483,260,573.19600000000003,537.5,1184.9725000000001,576.21074999999996,1.02,1.0509999999999999]
[null,null,null,"",null,null,"",null,"",null,"","","","","",""]
["82.5kg/181.8lb Junior (20-23) Men Raw APF",null,null,0,null,null,0,null,0,null,0,0,0,{"$error":"#VALUE!"},"",""]
["Joseph Harbold",21,80.3,177.02938,"M-RJR",172.5,380.29349999999999,105,231.483,260,573.19600000000003,537.5,1184.9725000000001,576.21074999999996,1.02,1.0509999999999999]
[]
["82.5kg/181.8lb Open Men Raw APF",null,null,{"$f":"IF(ISBLANK(A44),\"\",C44*2.2046)","v":0},null,null,{"$f":"IF(ISBLANK(A44),\"\",F44*2.2046)","v":0},null,{"$f":"IF(ISBLANK(A44),\"\",H44*2.2046)","v":0},null,{"$f":"IF(ISBLANK(A44),\"\",J44*2.2046)","v":0},{"$f":"IF(ISBLANK(A44),\"\",F44+H44+J44)","v":0},{"$f":"IF(ISBLANK(A44),\"\",L44*2.2046)","v":0},{"$f":"IF(ISBLANK(A44),\"\",L44*O44*P44)","v":{"$error":"#VALUE!"}},{"$f":"IF(ISNUMBER(B44),VLOOKUP(B44,af,2),\"\")","v":""},{"$f":"IF(ISNUMBER(C44),IF(LEFT(E44,1)=\"M\",VLOOKUP(C44,mwf,2),VLOOKUP(C44,wwf,2)),\"\")","v":""}]
["Joseph Kasongo",24,79.099999999999994,{"$f":"IF(ISBLANK(A45),\"\",C45*2.2046)","v":174.38386},"M-RO",105,{"$f":"IF(ISBLANK(A45),\"\",F45*2.2046)","v":231.483},102.5,{"$f":"IF(ISBLANK(A45),\"\",H45*2.2046)","v":225.97150000000002},170,{"$f":"IF(ISBLANK(A45),\"\",J45*2.2046)","v":374.78200000000004},{"$f":"IF(ISBLANK(A45),\"\",F45+H45+J45)","v":377.5},{"$f":"IF(ISBLANK(A45),\"\",L45*2.2046)","v":832.23650000000009},{"$f":"IF(ISBLANK(A45),\"\",L45*O45*P45)","v":402.41500000000002},{"$f":"IF(ISNUMBER(B45),VLOOKUP(B45,af,2),\"\")","v":1},{"$f":"IF(ISNUMBER(C45),IF(LEFT(E45,1)=\"M\",VLOOKUP(C45,mwf,2),VLOOKUP(C45,wwf,2)),\"\")","v":1.0660000000000001}]
[null,null,null,{"$f":"IF(ISBLANK(A46),\"\",C46*2.2046)","v":""},null,null,{"$f":"IF(ISBLANK(A46),\"\",F46*2.2046)","v":""},null,{"$f":"IF(ISBLANK(A46),\"\",H46*2.2046)","v":""},null,{"$f":"IF(ISBLANK(A46),\"\",J46*2.2046)","v":""},{"$f":"IF(ISBLANK(A46),\"\",F46+H46+J46)","v":""},{"$f":"IF(ISBLANK(A46),\"\",L46*2.2046)","v":""},{"$f":"IF(ISBLANK(A46),\"\",L46*O46*P46)","v":""},{"$f":"IF(ISNUMBER(B46),VLOOKUP(B46,af,2),\"\")","v":""},{"$f":"IF(ISNUMBER(C46),IF(LEFT(E46,1)=\"M\",VLOOKUP(C46,mwf,2),VLOOKUP(C46,wwf,2)),\"\")","v":""}]
["90.0kg/198.4lb Junior (20-23) Men Raw AAPF",null,null,0,null,null,0,null,0,null,0,0,0,{"$error":"#VALUE!"},"",""]
["Tanner Wendel",21,86.1,189.81605999999999,"M-RJR",200,440.92,145,319.66700000000003,257.5,567.68450000000007,602.5,1328.2715000000001,613.32089999999994,1.02,0.998]
[null,null,null,"",null,null,"",null,"",null,"","","","","",""]
["90.0kg/198.4lb Junior (20-23) Men Raw APF",null,null,0,null,null,0,null,0,null,0,0,0,{"$error":"#VALUE!"},"",""]
["Jacob Lucas",22,88.6,195.32756000000001,"M-RJR",282.5,622.79950000000008,177.5,391.31650000000002,295,650.35700000000008,755,1664.4730000000002,746.53644999999995,1.01,0.97899999999999998]
[null,null,null,"",null,null,"",null,"",null,"","","","","",""]
["100.0kg/220.4lb Junior (20-23) Men Raw AAPF",null,null,0,null,null,0,null,0,null,0,0,0,{"$error":"#VALUE!"},"",""]
["Houstin Schroff",21,95.5,210.5393,"M-RJR",197.5,435.4085,152.5,336.20150000000001,227.5,501.54650000000004,577.5,1273.1565000000001,550.17269999999996,1.02,0.93400000000000005]
[null,null,null,"",null,null,"",null,"",null,"","","","","",""]
["100.0kg/220.4lb Junior (20-23) Men Raw APF",null,null,0,null,null,0,null,0,null,0,0,0,{"$error":"#VALUE!"},"",""]
["Houstin Schroff",21,95.5,210.5393,"M-RJR",197.5,435.4085,152.5,336.20150000000001,227.5,501.54650000000004,577.5,1273.1565000000001,550.17269999999996,1.02,0.93400000000000005,"Second Place"]
["John Jensen",21,97.1,214.06665999999998,"M-RJR",230,507.05800000000005,125,275.57499999999999,265,584.21900000000005,620,1366.8520000000001,586.23480000000006,1.02,0.92700000000000005,"First Place"]
[]
["110.0kg/242.5lb Junior (20-23) Men Raw APF",null,null,0,null,null,0,null,0,null,0,0,0,{"$error":"#VALUE!"},"",""]
["Carlos Longo",22,102.9,226.85334000000003,"M-RJR",125,275.57499999999999,75,165.345,197.5,435.4085,397.5,876.32850000000008,363.33487500000001,1.01,0.90500000000000003]
[null,null,null,"",null,null,"",null,"",null,"","","","","",""]
["75.0kg/165.3lb Open Men Raw AAPF",null,null,0,null,null,0,null,0,null,0,0,0,{"$error":"#VALUE!"},"",""]
["Ethan Radin",25,73.5,162.03810000000001,"M-RO",200,440.92,147.5,325.17850000000004,240,529.10400000000004,587.5,1295.2025000000001,669.16250000000002,1,1.139]
[null,null,null,"",null,null,"",null,"",null,"","","","","",""]
["90.0kg/198.4lb Open Men Raw AAPF",null,null,0,null,null,0,null,0,null,0,0,0,{"$error":"#VALUE!"},"",""]
[null,null,null,"",null,null,"",null,"",null,"","","","","",""]
["90.0kg/198.4lb Open Men Raw APF",null,null,0,null,null,0,null,0,null,0,0,0,{"$error":"#VALUE!"},"",""]
["Jacob Lucas",30,88.6,195.32756000000001,"M-RO",282.5,622.79950000000008,177.5,391.31650000000002,295,650.35700000000008,755,1664.4730000000002,739.14499999999998,1,0.97899999999999998]
[null,null,null,"",null,null,"",null,"",null,"","","","","",""]
["100.0kg/220.4lb Open Men Raw AAPF",null,null,0,null,null,0,null,0,null,0,0,0,{"$error":"#VALUE!"},"",""]
["Devon Parcell",37,98.1,216.27126000000001,"M-RO",182.5,402.33950000000004,157.5,347.22450000000003,220,485.012,560,1234.576,516.88,1,0.92300000000000004]
[null,null,null,"",null,null,"",null,"",null,"","","","","",""]
["100.0kg/220.4lb Open Men Raw APF",null,null,0,null,null,0,null,0,null,0,0,0,{"$error":"#VALUE!"},"",""]
["Devon Parcell",37,98.1,216.27126000000001,"M-RO",182.5,402.33950000000004,157.5,347.22450000000003,220,485.012,560,1234.576,516.88,1,0.92300000000000004,"First Place"]
["Scott Almquist",28,91.5,201.7209,"M-RO",172.5,380.29349999999999,102.5,225.97150000000002,242.5,534.6155,517.5,1140.8805,495.76499999999999,1,0.95799999999999996,"Second Place"]
[null,null,null,"",null,null,"",null,"",null,"","","","","",""]
["100.0kg/220.4lb Submasters (33-39) Men Raw AAPF",null,null,0,null,null,0,null,0,null,0,0,0,{"$error":"#VALUE!"},"",""]
["Devon Parcell",37,98.1,216.27126000000001,"M-RSM",182.5,402.33950000000004,157.5,347.22450000000003,220,485.012,560,1234.576,516.88,1,0.92300000000000004]
[null,null,null,"",null,null,"",null,"",null,"","","","","",""]
["100.0kg/220.4lb Submasters (33-39) Men Raw APF",null,null,0,null,null,0,null,0,null,0,0,0,{"$error":"#VALUE!"},"",""]
["Devon Parcell",37,98.1,216.27126000000001,"M-RSM",182.5,402.33950000000004,157.5,347.22450000000003,220,485.012,560,1234.576,516.88,1,0.92300000000000004]
[null,null,null,"",null,null,"",null,"",null,"","","","","",""]
[null,null,null,"",null,null,"",null,"",null,"","","","","",""]
[null,null,null,"",null,null,"",null,"",null,"","","","","",""]
[null,null,null,"",null,null,"",null,"",null,"","","","","",""]
[null,null,null,"",null,null,"",null,"",null,"","","","","",""]
["Powerlifting:  Classic Raw Division"]
["Women",null,null,{"$f":"IF(ISBLANK(A89),\"\",C89*2.2046)","v":0},null,null,{"$f":"IF(ISBLANK(A89),\"\",F89*2.2046)","v":0},null,{"$f":"IF(ISBLANK(A89),\"\",H89*2.2046)","v":0},null,{"$f":"IF(ISBLANK(A89),\"\",J89*2.2046)","v":0},{"$f":"IF(ISBLANK(A89),\"\",F89+H89+J89)","v":0},{"$f":"IF(ISBLANK(A89),\"\",L89*2.2046)","v":0},{"$f":"IF(ISBLANK(A89),\"\",L89*O89*P89)","v":{"$error":"#VALUE!"}},{"$f":"IF(ISNUMBER(B89),VLOOKUP(B89,af,2),\"\")","v":""},{"$f":"IF(ISNUMBER(C89),IF(LEFT(E89,1)=\"M\",VLOOKUP(C89,mwf,2),VLOOKUP(C89,wwf,2)),\"\")","v":""}]
["67.5kg/148.8lb Junior (20-23) Women Classic Raw AAPF",null,null,0,null,null,0,null,0,null,0,0,0,{"$error":"#VALUE!"},"",""]
["Yennhi Hoang",20,61.2,134.92152000000002,"F-CRJR",80,176.36799999999999,52.5,115.7415,120,264.55200000000002,252.5,556.66150000000005,456.95177499999994,1.03,1.7569999999999999]
[null,null,null,"",null,null,"",null,"",null,"","","","","",""]
["75.0kg/165.3lb Junior (20-23) Women Classic Raw APF",null,null,0,null,null,0,null,0,null,0,0,0,{"$error":"#VALUE!"},"",""]
["Morgan Reiley",20,73.7,162.47902000000002,"F-CRJR",125,275.57499999999999,57.5,126.76450000000001,127.5,281.0865,310,683.42600000000004,498.4273,1.03,1.5609999999999999]
[null,null,null,"",null,null,"",null,"",null,"","","","","",""]
["67.5kg/148.8lb Open Women Classic Raw AAPF",null,null,0,null,null,0,null,0,null,0,0,0,{"$error":"#VALUE!"},"",""]
["Abby Christensen",37,67.400000000000006,148.59004000000002,"F-CRO",110,242.506,67.5,148.81050000000002,135,297.62100000000004,312.5,688.9375,513.4375,1,1.643]
[null,null,null,"",null,null,"",null,"",null,"","","","","",""]
["67.5kg/148.8lb Open Women Classic Raw APF",null,null,{"$f":"IF(ISBLANK(A99),\"\",C99*2.2046)","v":0},null,null,{"$f":"IF(ISBLANK(A99),\"\",F99*2.2046)","v":0},null,{"$f":"IF(ISBLANK(A99),\"\",H99*2.2046)","v":0},null,{"$f":"IF(ISBLANK(A99),\"\",J99*2.2046)","v":0},{"$f":"IF(ISBLANK(A99),\"\",F99+H99+J99)","v":0},{"$f":"IF(ISBLANK(A99),\"\",L99*2.2046)","v":0},{"$f":"IF(ISBLANK(A99),\"\",L99*O99*P99)","v":{"$error":"#VALUE!"}},{"$f":"IF(ISNUMBER(B99),VLOOKUP(B99,af,2),\"\")","v":""},{"$f":"IF(ISNUMBER(C99),IF(LEFT(E99,1)=\"M\",VLOOKUP(C99,mwf,2),VLOOKUP(C99,wwf,2)),\"\")","v":""}]
["Elsie Christensen",35,67.2,148.14912000000001,"F-CRO",100,220.46,52.5,115.7415,137.5,303.13249999999999,290,639.33400000000006,477.63,1,1.647]
[null,null,null,"",null,null,"",null,"",null,"","","","","",""]
["60.0kg/132.2lb Submasters (33-39) Women Classic Raw AAPF",null,null,0,null,null,0,null,0,null,0,0,0,{"$error":"#VALUE!"},"",""]
["Amber Skewes",35,59.8,131.83508,"F-CRSM",100,220.46,55,121.253,140,308.64400000000001,295,650.35700000000008,527.755,1,1.7889999999999999]
[null,null,null,"",null,null,"",null,"",null,"","","","","",""]
["60.0kg/132.2lb Submasters (33-39) Women Classic Raw APF",null,null,0,null,null,0,null,0,null,0,0,0,{"$error":"#VALUE!"},"",""]
["Melissa Lefler",38,59.2,130.51232000000002,"F-CRSM",110,242.506,57.5,126.76450000000001,130,286.59800000000001,297.5,655.86850000000004,537.88,1,1.8080000000000001]
[null,null,null,"",null,null,"",null,"",null,"","","","","",""]
["67.5kg/148.8lb Submasters (33-39) Women Classic Raw APF",null,null,0,null,null,0,null,0,null,0,0,0,{"$error":"#VALUE!"},"",""]
["Leslie Faragher",33,65.8,145.06268,"F-CRSM",130,286.59800000000001,70,154.322,132.5,292.10950000000003,332.5,733.02949999999998,554.61,1,1.6679999999999999]
[null,null,null,"",null,null,"",null,"",null,"","","","","",""]
["67.5kg/148.8lb Masters M1 (40-44) Women Classic Raw APF",null,null,0,null,null,0,null,0,null,0,0,0,{"$error":"#VALUE!"},"",""]
["Angie Adams",42,65.400000000000006,144.18084000000002,"F-CRM1",90,198.41400000000002,55,121.253,0,0,145,319.66700000000003,247.88040000000001,1.02,1.6759999999999999,"DQ (Deadlift)"]
[null,null,null,"",null,null,"",null,"",null,"","","","","",""]
["67.5kg/148.8lb Masters M4 (55-59) Women Classic Raw APF",null,null,{"$f":"IF(ISBLANK(A114),\"\",C114*2.2046)","v":0},null,null,{"$f":"IF(ISBLANK(A114),\"\",F114*2.2046)","v":0},null,{"$f":"IF(ISBLANK(A114),\"\",H114*2.2046)","v":0},null,{"$f":"IF(ISBLANK(A114),\"\",J114*2.2046)","v":0},{"$f":"IF(ISBLANK(A114),\"\",F114+H114+J114)","v":0},{"$f":"IF(ISBLANK(A114),\"\",L114*2.2046)","v":0},{"$f":"IF(ISBLANK(A114),\"\",L114*O114*P114)","v":{"$error":"#VALUE!"}},{"$f":"IF(ISNUMBER(B114),VLOOKUP(B114,af,2),\"\")","v":""},{"$f":"IF(ISNUMBER(C114),IF(LEFT(E114,1)=\"M\",VLOOKUP(C114,mwf,2),VLOOKUP(C114,wwf,2)),\"\")","v":""}]
[null,null,null,{"$f":"IF(ISBLANK(A115),\"\",C115*2.2046)","v":""},null,null,{"$f":"IF(ISBLANK(A115),\"\",F115*2.2046)","v":""},null,{"$f":"IF(ISBLANK(A115),\"\",H115*2.2046)","v":""},null,{"$f":"IF(ISBLANK(A115),\"\",J115*2.2046)","v":""},{"$f":"IF(ISBLANK(A115),\"\",F115+H115+J115)","v":""},{"$f":"IF(ISBLANK(A115),\"\",L115*2.2046)","v":""},{"$f":"IF(ISBLANK(A115),\"\",L115*O115*P115)","v":""},{"$f":"IF(ISNUMBER(B115),VLOOKUP(B115,af,2),\"\")","v":""},{"$f":"IF(ISNUMBER(C115),IF(LEFT(E115,1)=\"M\",VLOOKUP(C115,mwf,2),VLOOKUP(C115,wwf,2)),\"\")","v":""}]
[null,null,null,{"$f":"IF(ISBLANK(A116),\"\",C116*2.2046)","v":""},null,null,{"$f":"IF(ISBLANK(A116),\"\",F116*2.2046)","v":""},null,{"$f":"IF(ISBLANK(A116),\"\",H116*2.2046)","v":""},null,{"$f":"IF(ISBLANK(A116),\"\",J116*2.2046)","v":""},{"$f":"IF(ISBLANK(A116),\"\",F116+H116+J116)","v":""},{"$f":"IF(ISBLANK(A116),\"\",L116*2.2046)","v":""},{"$f":"IF(ISBLANK(A116),\"\",L116*O116*P116)","v":""},{"$f":"IF(ISNUMBER(B116),VLOOKUP(B116,af,2),\"\")","v":""},{"$f":"IF(ISNUMBER(C116),IF(LEFT(E116,1)=\"M\",VLOOKUP(C116,mwf,2),VLOOKUP(C116,wwf,2)),\"\")","v":""}]
["Men",null,null,{"$f":"IF(ISBLANK(A117),\"\",C117*2.2046)","v":0},null,null,{"$f":"IF(ISBLANK(A117),\"\",F117*2.2046)","v":0},null,{"$f":"IF(ISBLANK(A117),\"\",H117*2.2046)","v":0},null,{"$f":"IF(ISBLANK(A117),\"\",J117*2.2046)","v":0},{"$f":"IF(ISBLANK(A117),\"\",F117+H117+J117)","v":0},{"$f":"IF(ISBLANK(A117),\"\",L117*2.2046)","v":0},{"$f":"IF(ISBLANK(A117),\"\",L117*O117*P117)","v":{"$error":"#VALUE!"}},{"$f":"IF(ISNUMBER(B117),VLOOKUP(B117,af,2),\"\")","v":""},{"$f":"IF(ISNUMBER(C117),IF(LEFT(E117,1)=\"M\",VLOOKUP(C117,mwf,2),VLOOKUP(C117,wwf,2)),\"\")","v":""}]
["82.5kg/181.8lb Junior (20-23) Men Classic Raw AAPF",null,null,{"$f":"IF(ISBLANK(A118),\"\",C118*2.2046)","v":0},null,null,{"$f":"IF(ISBLANK(A118),\"\",F118*2.2046)","v":0},null,{"$f":"IF(ISBLANK(A118),\"\",H118*2.2046)","v":0},null,{"$f":"IF(ISBLANK(A118),\"\",J118*2.2046)","v":0},{"$f":"IF(ISBLANK(A118),\"\",F118+H118+J118)","v":0},{"$f":"IF(ISBLANK(A118),\"\",L118*2.2046)","v":0},{"$f":"IF(ISBLANK(A118),\"\",L118*O118*P118)","v":{"$error":"#VALUE!"}},{"$f":"IF(ISNUMBER(B118),VLOOKUP(B118,af,2),\"\")","v":""},{"$f":"IF(ISNUMBER(C118),IF(LEFT(E118,1)=\"M\",VLOOKUP(C118,mwf,2),VLOOKUP(C118,wwf,2)),\"\")","v":""}]
["Jeremy Evans",20,79.7,175.70662000000002,"M-CRJR",135,297.62100000000004,122.5,270.06350000000003,185,407.851,442.5,975.53550000000007,483.12150000000008,1.03,1.06]
[null,null,null,"",null,null,"",null,"",null,"","","","","",""]
["90.0kg/198.4lb Junior (20-23) Men Classic Raw AAPF",null,null,0,null,null,0,null,0,null,0,0,0,{"$error":"#VALUE!"},"",""]
["Colton Powell",22,87.7,{"$f":"IF(ISBLANK(A122),\"\",C122*2.2046)","v":193.34342000000001},"M-CRJR",175,{"$f":"IF(ISBLANK(A122),\"\",F122*2.2046)","v":385.80500000000001},120,{"$f":"IF(ISBLANK(A122),\"\",H122*2.2046)","v":264.55200000000002},180,{"$f":"IF(ISBLANK(A122),\"\",J122*2.2046)","v":396.82800000000003},{"$f":"IF(ISBLANK(A122),\"\",F122+H122+J122)","v":475},{"$f":"IF(ISBLANK(A122),\"\",L122*2.2046)","v":1047.1849999999999},{"$f":"IF(ISBLANK(A122),\"\",L122*O122*P122)","v":473.51324999999997},{"$f":"IF(ISNUMBER(B122),VLOOKUP(B122,af,2),\"\")","v":1.01},{"$f":"IF(ISNUMBER(C122),IF(LEFT(E122,1)=\"M\",VLOOKUP(C122,mwf,2),VLOOKUP(C122,wwf,2)),\"\")","v":0.98699999999999999}]
[null,null,null,{"$f":"IF(ISBLANK(A123),\"\",C123*2.2046)","v":""},null,null,{"$f":"IF(ISBLANK(A123),\"\",F123*2.2046)","v":""},null,{"$f":"IF(ISBLANK(A123),\"\",H123*2.2046)","v":""},null,{"$f":"IF(ISBLANK(A123),\"\",J123*2.2046)","v":""},{"$f":"IF(ISBLANK(A123),\"\",F123+H123+J123)","v":""},{"$f":"IF(ISBLANK(A123),\"\",L123*2.2046)","v":""},{"$f":"IF(ISBLANK(A123),\"\",L123*O123*P123)","v":""},{"$f":"IF(ISNUMBER(B123),VLOOKUP(B123,af,2),\"\")","v":""},{"$f":"IF(ISNUMBER(C123),IF(LEFT(E123,1)=\"M\",VLOOKUP(C123,mwf,2),VLOOKUP(C123,wwf,2)),\"\")","v":""}]
["100.0kg/220.4lb Junior (20-23) Men Classic Raw APF",null,null,{"$f":"IF(ISBLANK(A124),\"\",C124*2.2046)","v":0},null,null,{"$f":"IF(ISBLANK(A124),\"\",F124*2.2046)","v":0},null,{"$f":"IF(ISBLANK(A124),\"\",H124*2.2046)","v":0},null,{"$f":"IF(ISBLANK(A124),\"\",J124*2.2046)","v":0},{"$f":"IF(ISBLANK(A124),\"\",F124+H124+J124)","v":0},{"$f":"IF(ISBLANK(A124),\"\",L124*2.2046)","v":0},{"$f":"IF(ISBLANK(A124),\"\",L124*O124*P124)","v":{"$error":"#VALUE!"}},{"$f":"IF(ISNUMBER(B124),VLOOKUP(B124,af,2),\"\")","v":""},{"$f":"IF(ISNUMBER(C124),IF(LEFT(E124,1)=\"M\",VLOOKUP(C124,mwf,2),VLOOKUP(C124,wwf,2)),\"\")","v":""}]
["Taylor Griffiths",22,97.6,{"$f":"IF(ISBLANK(A125),\"\",C125*2.2046)","v":215.16896},"M-CRJR",235,{"$f":"IF(ISBLANK(A125),\"\",F125*2.2046)","v":518.08100000000002},185,{"$f":"IF(ISBLANK(A125),\"\",H125*2.2046)","v":407.851},302.5,{"$f":"IF(ISBLANK(A125),\"\",J125*2.2046)","v":666.89150000000006},{"$f":"IF(ISBLANK(A125),\"\",F125+H125+J125)","v":722.5},{"$f":"IF(ISBLANK(A125),\"\",L125*2.2046)","v":1592.8235000000002},{"$f":"IF(ISBLANK(A125),\"\",L125*O125*P125)","v":674.99562500000002},{"$f":"IF(ISNUMBER(B125),VLOOKUP(B125,af,2),\"\")","v":1.01},{"$f":"IF(ISNUMBER(C125),IF(LEFT(E125,1)=\"M\",VLOOKUP(C125,mwf,2),VLOOKUP(C125,wwf,2)),\"\")","v":0.92500000000000004}]
[null,null,null,{"$f":"IF(ISBLANK(A126),\"\",C126*2.2046)","v":""},null,null,{"$f":"IF(ISBLANK(A126),\"\",F126*2.2046)","v":""},null,{"$f":"IF(ISBLANK(A126),\"\",H126*2.2046)","v":""},null,{"$f":"IF(ISBLANK(A126),\"\",J126*2.2046)","v":""},{"$f":"IF(ISBLANK(A126),\"\",F126+H126+J126)","v":""},{"$f":"IF(ISBLANK(A126),\"\",L126*2.2046)","v":""},{"$f":"IF(ISBLANK(A126),\"\",L126*O126*P126)","v":""},{"$f":"IF(ISNUMBER(B126),VLOOKUP(B126,af,2),\"\")","v":""},{"$f":"IF(ISNUMBER(C126),IF(LEFT(E126,1)=\"M\",VLOOKUP(C126,mwf,2),VLOOKUP(C126,wwf,2)),\"\")","v":""}]
["110.0kg/242.5lb Junior (20-23) Men Classic Raw APF",null,null,0,null,null,0,null,0,null,0,0,0,{"$error":"#VALUE!"},"",""]
["Mikkel Langseth",22,107.7,237.43542000000002,"M-CRJR",270,595.24200000000008,140,308.64400000000001,265,584.21900000000005,675,1488.105,607.43925000000002,1.01,0.89100000000000001]
[null,null,null,"",null,null,"",null,"",null,"","","","","",""]
["67.5kg/148.8lb Open Men Classic Raw APF",null,null,{"$f":"IF(ISBLANK(A130),\"\",C130*2.2046)","v":0},null,null,{"$f":"IF(ISBLANK(A130),\"\",F130*2.2046)","v":0},null,{"$f":"IF(ISBLANK(A130),\"\",H130*2.2046)","v":0},null,{"$f":"IF(ISBLANK(A130),\"\",J130*2.2046)","v":0},{"$f":"IF(ISBLANK(A130),\"\",F130+H130+J130)","v":0},{"$f":"IF(ISBLANK(A130),\"\",L130*2.2046)","v":0},{"$f":"IF(ISBLANK(A130),\"\",L130*O130*P130)","v":{"$error":"#VALUE!"}},{"$f":"IF(ISNUMBER(B130),VLOOKUP(B130,af,2),\"\")","v":""},{"$f":"IF(ISNUMBER(C130),IF(LEFT(E130,1)=\"M\",VLOOKUP(C130,mwf,2),VLOOKUP(C130,wwf,2)),\"\")","v":""}]
["Jason Gonzalez",24,65.400000000000006,{"$f":"IF(ISBLANK(A131),\"\",C131*2.2046)","v":144.18084000000002},"M-CRO",195,{"$f":"IF(ISBLANK(A131),\"\",F131*2.2046)","v":429.89700000000005},152.5,{"$f":"IF(ISBLANK(A131),\"\",H131*2.2046)","v":336.20150000000001},210,{"$f":"IF(ISBLANK(A131),\"\",J131*2.2046)","v":462.96600000000001},{"$f":"IF(ISBLANK(A131),\"\",F131+H131+J131)","v":557.5},{"$f":"IF(ISBLANK(A131),\"\",L131*2.2046)","v":1229.0645},{"$f":"IF(ISBLANK(A131),\"\",L131*O131*P131)","v":715.83},{"$f":"IF(ISNUMBER(B131),VLOOKUP(B131,af,2),\"\")","v":1},{"$f":"IF(ISNUMBER(C131),IF(LEFT(E131,1)=\"M\",VLOOKUP(C131,mwf,2),VLOOKUP(C131,wwf,2)),\"\")","v":1.284}]
[null,null,null,{"$f":"IF(ISBLANK(A132),\"\",C132*2.2046)","v":""},null,null,{"$f":"IF(ISBLANK(A132),\"\",F132*2.2046)","v":""},null,{"$f":"IF(ISBLANK(A132),\"\",H132*2.2046)","v":""},null,{"$f":"IF(ISBLANK(A132),\"\",J132*2.2046)","v":""},{"$f":"IF(ISBLANK(A132),\"\",F132+H132+J132)","v":""},{"$f":"IF(ISBLANK(A132),\"\",L132*2.2046)","v":""},{"$f":"IF(ISBLANK(A132),\"\",L132*O132*P132)","v":""},{"$f":"IF(ISNUMBER(B132),VLOOKUP(B132,af,2),\"\")","v":""},{"$f":"IF(ISNUMBER(C132),IF(LEFT(E132,1)=\"M\",VLOOKUP(C132,mwf,2),VLOOKUP(C132,wwf,2)),\"\")","v":""}]
["90.0kg/198.4lb Open Men Classic Raw AAPF",null,null,0,null,null,0,null,0,null,0,0,0,{"$error":"#VALUE!"},"",""]
["Robert Simmons",24,88.7,195.54802000000001,"M-CRO",207.5,457.4545,147.5,325.17850000000004,null,0,355,782.63300000000004,347.54500000000002,1,0.97899999999999998]
[]
["82.5kg/181.8lb Open Men Classic Raw AAPF",null,null,{"$f":"IF(ISBLANK(A136),\"\",C136*2.2046)","v":0},null,null,{"$f":"IF(ISBLANK(A136),\"\",F136*2.2046)","v":0},null,{"$f":"IF(ISBLANK(A136),\"\",H136*2.2046)","v":0},null,{"$f":"IF(ISBLANK(A136),\"\",J136*2.2046)","v":0},{"$f":"IF(ISBLANK(A136),\"\",F136+H136+J136)","v":0},{"$f":"IF(ISBLANK(A136),\"\",L136*2.2046)","v":0},{"$f":"IF(ISBLANK(A136),\"\",L136*O136*P136)","v":{"$error":"#VALUE!"}},{"$f":"IF(ISNUMBER(B136),VLOOKUP(B136,af,2),\"\")","v":""},{"$f":"IF(ISNUMBER(C136),IF(LEFT(E136,1)=\"M\",VLOOKUP(C136,mwf,2),VLOOKUP(C136,wwf,2)),\"\")","v":""}]
["Michael Lear",33,81.5,{"$f":"IF(ISBLANK(A137),\"\",C137*2.2046)","v":179.67490000000001},"M-CRO",245,{"$f":"IF(ISBLANK(A137),\"\",F137*2.2046)","v":540.12700000000007},152.5,{"$f":"IF(ISBLANK(A137),\"\",H137*2.2046)","v":336.20150000000001},300,{"$f":"IF(ISBLANK(A137),\"\",J137*2.2046)","v":661.38},{"$f":"IF(ISBLANK(A137),\"\",F137+H137+J137)","v":697.5},{"$f":"IF(ISBLANK(A137),\"\",L137*2.2046)","v":1537.7085000000002},{"$f":"IF(ISBLANK(A137),\"\",L137*O137*P137)","v":724.70249999999999},{"$f":"IF(ISNUMBER(B137),VLOOKUP(B137,af,2),\"\")","v":1},{"$f":"IF(ISNUMBER(C137),IF(LEFT(E137,1)=\"M\",VLOOKUP(C137,mwf,2),VLOOKUP(C137,wwf,2)),\"\")","v":1.0389999999999999}]
[null,null,null,"",null,null,"",null,"",null,"","","","","",""]
["90.0kg/198.4lb Open Men Classic Raw APF",null,null,0,null,null,0,null,0,null,0,0,0,{"$error":"#VALUE!"},"",""]
["Robert Simmons",24,88.7,195.54802000000001,"M-CRO",207.5,457.4545,147.5,325.17850000000004,240,529.10400000000004,595,1311.7370000000001,582.505,1,0.97899999999999998]
[]
["82.5kg/181.8lb Open Men Classic Raw APF",null,null,{"$f":"IF(ISBLANK(A142),\"\",C142*2.2046)","v":0},null,null,{"$f":"IF(ISBLANK(A142),\"\",F142*2.2046)","v":0},null,{"$f":"IF(ISBLANK(A142),\"\",H142*2.2046)","v":0},null,{"$f":"IF(ISBLANK(A142),\"\",J142*2.2046)","v":0},{"$f":"IF(ISBLANK(A142),\"\",F142+H142+J142)","v":0},{"$f":"IF(ISBLANK(A142),\"\",L142*2.2046)","v":0},{"$f":"IF(ISBLANK(A142),\"\",L142*O142*P142)","v":{"$error":"#VALUE!"}},{"$f":"IF(ISNUMBER(B142),VLOOKUP(B142,af,2),\"\")","v":""},{"$f":"IF(ISNUMBER(C142),IF(LEFT(E142,1)=\"M\",VLOOKUP(C142,mwf,2),VLOOKUP(C142,wwf,2)),\"\")","v":""}]
["Michael Lear",33,81.5,{"$f":"IF(ISBLANK(A143),\"\",C143*2.2046)","v":179.67490000000001},"M-CRO",245,{"$f":"IF(ISBLANK(A143),\"\",F143*2.2046)","v":540.12700000000007},152.5,{"$f":"IF(ISBLANK(A143),\"\",H143*2.2046)","v":336.20150000000001},300,{"$f":"IF(ISBLANK(A143),\"\",J143*2.2046)","v":661.38},{"$f":"IF(ISBLANK(A143),\"\",F143+H143+J143)","v":697.5},{"$f":"IF(ISBLANK(A143),\"\",L143*2.2046)","v":1537.7085000000002},{"$f":"IF(ISBLANK(A143),\"\",L143*O143*P143)","v":724.70249999999999},{"$f":"IF(ISNUMBER(B143),VLOOKUP(B143,af,2),\"\")","v":1},{"$f":"IF(ISNUMBER(C143),IF(LEFT(E143,1)=\"M\",VLOOKUP(C143,mwf,2),VLOOKUP(C143,wwf,2)),\"\")","v":1.0389999999999999}]
["100.0kg/220.4lb Open Men Classic Raw AAPF",null,null,0,null,null,0,null,0,null,0,0,0,{"$error":"#VALUE!"},"",""]
[null,null,null,"",null,null,"",null,"",null,"","","","","",""]
["100.0kg/220.4lb Open Men Classic Raw APF",null,null,0,null,null,0,null,0,null,0,0,0,{"$error":"#VALUE!"},"",""]
["Taylor Griffiths",30,97.6,{"$f":"IF(ISBLANK(A147),\"\",C147*2.2046)","v":215.16896},"M-CRO",235,{"$f":"IF(ISBLANK(A147),\"\",F147*2.2046)","v":518.08100000000002},185,{"$f":"IF(ISBLANK(A147),\"\",H147*2.2046)","v":407.851},302.5,{"$f":"IF(ISBLANK(A147),\"\",J147*2.2046)","v":666.89150000000006},{"$f":"IF(ISBLANK(A147),\"\",F147+H147+J147)","v":722.5},{"$f":"IF(ISBLANK(A147),\"\",L147*2.2046)","v":1592.8235000000002},{"$f":"IF(ISBLANK(A147),\"\",L147*O147*P147)","v":668.3125},{"$f":"IF(ISNUMBER(B147),VLOOKUP(B147,af,2),\"\")","v":1},{"$f":"IF(ISNUMBER(C147),IF(LEFT(E147,1)=\"M\",VLOOKUP(C147,mwf,2),VLOOKUP(C147,wwf,2)),\"\")","v":0.92500000000000004},"First Place"]
["Les Beecher",30,98.4,{"$f":"IF(ISBLANK(A148),\"\",C148*2.2046)","v":216.93264000000002},"M-CRO",242.5,{"$f":"IF(ISBLANK(A148),\"\",F148*2.2046)","v":534.6155},185,{"$f":"IF(ISBLANK(A148),\"\",H148*2.2046)","v":407.851},252.5,{"$f":"IF(ISBLANK(A148),\"\",J148*2.2046)","v":556.66150000000005},{"$f":"IF(ISBLANK(A148),\"\",F148+H148+J148)","v":680},{"$f":"IF(ISBLANK(A148),\"\",L148*2.2046)","v":1499.1280000000002},{"$f":"IF(ISBLANK(A148),\"\",L148*O148*P148)","v":626.96},{"$f":"IF(ISNUMBER(B148),VLOOKUP(B148,af,2),\"\")","v":1},{"$f":"IF(ISNUMBER(C148),IF(LEFT(E148,1)=\"M\",VLOOKUP(C148,mwf,2),VLOOKUP(C148,wwf,2)),\"\")","v":0.92200000000000004},"Second Place"]
["Terry Vogel",30,98.3,{"$f":"IF(ISBLANK(A149),\"\",C149*2.2046)","v":216.71218000000002},"M-CRO",182.5,{"$f":"IF(ISBLANK(A149),\"\",F149*2.2046)","v":402.33950000000004},145,{"$f":"IF(ISBLANK(A149),\"\",H149*2.2046)","v":319.66700000000003},215,{"$f":"IF(ISBLANK(A149),\"\",J149*2.2046)","v":473.98900000000003},{"$f":"IF(ISBLANK(A149),\"\",F149+H149+J149)","v":542.5},{"$f":"IF(ISBLANK(A149),\"\",L149*2.2046)","v":1195.9955},{"$f":"IF(ISBLANK(A149),\"\",L149*O149*P149)","v":500.185},{"$f":"IF(ISNUMBER(B149),VLOOKUP(B149,af,2),\"\")","v":1},{"$f":"IF(ISNUMBER(C149),IF(LEFT(E149,1)=\"M\",VLOOKUP(C149,mwf,2),VLOOKUP(C149,wwf,2)),\"\")","v":0.92200000000000004},"Third Place"]
[null,null,null,"",null,null,"",null,"",null,"","","","","",""]
["110.0kg/242.5lb Open Men Classic Raw AAPF",null,null,0,null,null,0,null,0,null,0,0,0,{"$error":"#VALUE!"},"",""]
["Joey Davenport",30,102.1,225.08966000000001,"M-CRO",205,451.94300000000004,120,264.55200000000002,250,551.15,575,1267.645,522.1,1,0.90800000000000003,"First Place"]
["Adam Carpenter",31,103.8,{"$f":"IF(ISBLANK(A153),\"\",C153*2.2046)","v":228.83748},"M-CRO",210,{"$f":"IF(ISBLANK(A153),\"\",F153*2.2046)","v":462.96600000000001},102.5,{"$f":"IF(ISBLANK(A153),\"\",H153*2.2046)","v":225.97150000000002},237.5,{"$f":"IF(ISBLANK(A153),\"\",J153*2.2046)","v":523.59249999999997},{"$f":"IF(ISBLANK(A153),\"\",F153+H153+J153)","v":550},{"$f":"IF(ISBLANK(A153),\"\",L153*2.2046)","v":1212.53},{"$f":"IF(ISBLANK(A153),\"\",L153*O153*P153)","v":496.1},{"$f":"IF(ISNUMBER(B153),VLOOKUP(B153,af,2),\"\")","v":1},{"$f":"IF(ISNUMBER(C153),IF(LEFT(E153,1)=\"M\",VLOOKUP(C153,mwf,2),VLOOKUP(C153,wwf,2)),\"\")","v":0.90200000000000002},"Second Place"]
[null,null,null,"",null,null,"",null,"",null,"","","","","",""]
["110.0kg/242.5lb Open Men Classic Raw APF",null,null,0,null,null,0,null,0,null,0,0,0,{"$error":"#VALUE!"},"",""]
["Joey Davenport",30,102.1,225.08966000000001,"M-CRO",205,451.94300000000004,120,264.55200000000002,250,551.15,575,1267.645,522.1,1,0.90800000000000003,"Third Place"]
["Aaron Van Scoten",28,109,{"$f":"IF(ISBLANK(A157),\"\",C157*2.2046)","v":240.3014},"M-CRO",262.5,{"$f":"IF(ISBLANK(A157),\"\",F157*2.2046)","v":578.70749999999998},172.5,{"$f":"IF(ISBLANK(A157),\"\",H157*2.2046)","v":380.29349999999999},287.5,{"$f":"IF(ISBLANK(A157),\"\",J157*2.2046)","v":633.82249999999999},{"$f":"IF(ISBLANK(A157),\"\",F157+H157+J157)","v":722.5},{"$f":"IF(ISBLANK(A157),\"\",L157*2.2046)","v":1592.8235000000002},{"$f":"IF(ISBLANK(A157),\"\",L157*O157*P157)","v":640.85749999999996},{"$f":"IF(ISNUMBER(B157),VLOOKUP(B157,af,2),\"\")","v":1},{"$f":"IF(ISNUMBER(C157),IF(LEFT(E157,1)=\"M\",VLOOKUP(C157,mwf,2),VLOOKUP(C157,wwf,2)),\"\")","v":0.88700000000000001},"First Place"]
["Joel Higgins",30,103.7,{"$f":"IF(ISBLANK(A158),\"\",C158*2.2046)","v":228.61702000000002},"M-CRO",237.5,{"$f":"IF(ISBLANK(A158),\"\",F158*2.2046)","v":523.59249999999997},167.5,{"$f":"IF(ISBLANK(A158),\"\",H158*2.2046)","v":369.27050000000003},242.5,{"$f":"IF(ISBLANK(A158),\"\",J158*2.2046)","v":534.6155},{"$f":"IF(ISBLANK(A158),\"\",F158+H158+J158)","v":647.5},{"$f":"IF(ISBLANK(A158),\"\",L158*2.2046)","v":1427.4785000000002},{"$f":"IF(ISBLANK(A158),\"\",L158*O158*P158)","v":584.6925},{"$f":"IF(ISNUMBER(B158),VLOOKUP(B158,af,2),\"\")","v":1},{"$f":"IF(ISNUMBER(C158),IF(LEFT(E158,1)=\"M\",VLOOKUP(C158,mwf,2),VLOOKUP(C158,wwf,2)),\"\")","v":0.90300000000000002},"Second Place"]
[null,null,null,"",null,null,"",null,"",null,"","","","","",""]
["140.0kg/308.6lb Open Men Classic Raw APF",null,null,0,null,null,0,null,0,null,0,0,0,{"$error":"#VALUE!"},"",""]
["Shay McQuiston",35,131.9,290.78674000000001,"M-CRO",322.5,710.98350000000005,192.5,424.38550000000004,272.5,600.75350000000003,787.5,1736.1225000000002,668.58749999999998,1,0.84899999999999998]
[null,null,null,"",null,null,"",null,"",null,"","","","","",""]
["100.0kg/220.4lb Submasters (33-39) Men Classic Raw AAPF",null,null,0,null,null,0,null,0,null,0,0,0,{"$error":"#VALUE!"},"",""]
["Christopher Smith",33,96.4,212.52344000000002,"M-CRSM",202.5,446.43150000000003,122.5,270.06350000000003,220,485.012,545,1201.5070000000001,507.39500000000004,1,0.93100000000000005]
[null,null,null,"",null,null,"",null,"",null,"","","","","",""]
["100.0kg/220.4lb Submasters (33-39) Men Classic Raw APF",null,null,0,null,null,0,null,0,null,0,0,0,{"$error":"#VALUE!"},"",""]
["Tommy Winn",37,95.3,210.09837999999999,"M-CRSM",185,407.851,125,275.57499999999999,280,617.28800000000001,590,1300.7140000000002,551.65,1,0.93500000000000005]
[null,null,null,"",null,null,"",null,"",null,"","","","","",""]
["140.0kg/308.6lb Submasters (33-39) Men Classic Raw APF",null,null,0,null,null,0,null,0,null,0,0,0,{"$error":"#VALUE!"},"",""]
["Shay McQuiston",35,131.9,290.78674000000001,"M-CRSM",322.5,710.98350000000005,192.5,424.38550000000004,272.5,600.75350000000003,787.5,1736.1225000000002,668.58749999999998,1,0.84899999999999998]
[null,null,null,"",null,null,"",null,"",null,"","","","","",""]
["90.0kg/198.4lb Masters M1 (40-44) Men Classic Raw APF",null,null,0,null,null,0,null,0,null,0,0,0,{"$error":"#VALUE!"},"",""]
[]
[null,null,null,"",null,null,"",null,"",null,"","","","","",""]
["100.0kg/220.5lb Masters M1 (40-44) Men Classic Raw APF",null,null,0,null,null,0,null,0,null,0,0,0,{"$error":"#VALUE!"},"",""]
["Brett Zimmerman",41,97.3,214.50758000000002,"M-CRM1",175,385.80500000000001,150,330.69,242.5,534.6155,567.5,1251.1105,530.76004999999998,1.01,0.92600000000000005,"First Place"]
["Terry Vogel",44,98.3,{"$f":"IF(ISBLANK(A177),\"\",C177*2.2046)","v":216.71218000000002},"M-CRM1",182.5,{"$f":"IF(ISBLANK(A177),\"\",F177*2.2046)","v":402.33950000000004},145,{"$f":"IF(ISBLANK(A177),\"\",H177*2.2046)","v":319.66700000000003},215,{"$f":"IF(ISBLANK(A177),\"\",J177*2.2046)","v":473.98900000000003},{"$f":"IF(ISBLANK(A177),\"\",F177+H177+J177)","v":542.5},{"$f":"IF(ISBLANK(A177),\"\",L177*2.2046)","v":1195.9955},{"$f":"IF(ISBLANK(A177),\"\",L177*O177*P177)","v":521.69295499999998},{"$f":"IF(ISNUMBER(B177),VLOOKUP(B177,af,2),\"\")","v":1.0429999999999999},{"$f":"IF(ISNUMBER(C177),IF(LEFT(E177,1)=\"M\",VLOOKUP(C177,mwf,2),VLOOKUP(C177,wwf,2)),\"\")","v":0.92200000000000004},"Second Place"]
[]
["100.0kg/220.4lb Masters M2 (45-49) Men Raw APF",null,null,{"$f":"IF(ISBLANK(A179),\"\",C179*2.2046)","v":0},null,null,{"$f":"IF(ISBLANK(A179),\"\",F179*2.2046)","v":0},null,{"$f":"IF(ISBLANK(A179),\"\",H179*2.2046)","v":0},null,{"$f":"IF(ISBLANK(A179),\"\",J179*2.2046)","v":0},{"$f":"IF(ISBLANK(A179),\"\",F179+H179+J179)","v":0},{"$f":"IF(ISBLANK(A179),\"\",L179*2.2046)","v":0},{"$f":"IF(ISBLANK(A179),\"\",L179*O179*P179)","v":{"$error":"#VALUE!"}},{"$f":"IF(ISNUMBER(B179),VLOOKUP(B179,af,2),\"\")","v":""},{"$f":"IF(ISNUMBER(C179),IF(LEFT(E179,1)=\"M\",VLOOKUP(C179,mwf,2),VLOOKUP(C179,wwf,2)),\"\")","v":""}]
["Les Beecher",48,98.4,{"$f":"IF(ISBLANK(A180),\"\",C180*2.2046)","v":216.93264000000002},"M-RM1",242.5,{"$f":"IF(ISBLANK(A180),\"\",F180*2.2046)","v":534.6155},185,{"$f":"IF(ISBLANK(A180),\"\",H180*2.2046)","v":407.851},252.5,{"$f":"IF(ISBLANK(A180),\"\",J180*2.2046)","v":556.66150000000005},{"$f":"IF(ISBLANK(A180),\"\",F180+H180+J180)","v":680},{"$f":"IF(ISBLANK(A180),\"\",L180*2.2046)","v":1499.1280000000002},{"$f":"IF(ISBLANK(A180),\"\",L180*O180*P180)","v":687.77512000000002},{"$f":"IF(ISNUMBER(B180),VLOOKUP(B180,af,2),\"\")","v":1.097},{"$f":"IF(ISNUMBER(C180),IF(LEFT(E180,1)=\"M\",VLOOKUP(C180,mwf,2),VLOOKUP(C180,wwf,2)),\"\")","v":0.92200000000000004}]
[null,null,null,"",null,null,"",null,"",null,"","","","","",""]
["110.0kg/242.5lb Masters M1 (40-44) Men Classic Raw APF",null,null,0,null,null,0,null,0,null,0,0,0,{"$error":"#VALUE!"},"",""]
["Nate Barnes",42,103.6,228.39655999999999,"M-CRM1",205,451.94300000000004,167.5,369.27050000000003,227.5,501.54650000000004,600,1322.76,552.63599999999997,1.02,0.90300000000000002]
[null,null,null,"",null,null,"",null,"",null,"","","","","",""]
["110.0kg/242.5lb Masters M2 (45-49) Men Classic Raw AAPF",null,null,0,null,null,0,null,0,null,0,0,0,{"$error":"#VALUE!"},"",""]
["Steve Arnoldus",45,106.7,235.23082000000002,"M-CRM2",212.5,468.47750000000002,137.5,303.13249999999999,230,507.05800000000005,580,1278.6680000000001,547.03859999999997,1.0549999999999999,0.89400000000000002]
[null,null,null,"",null,null,"",null,"",null,"","","","","",""]
[null,null,null,"",null,null,"",null,"",null,"","","","","",""]
[null,null,null,"",null,null,"",null,"",null,"","","","","",""]
["Powerlifting:  Single Ply Division"]
["Women",null,null,{"$f":"IF(ISBLANK(A191),\"\",C191*2.2046)","v":0},null,null,{"$f":"IF(ISBLANK(A191),\"\",F191*2.2046)","v":0},null,{"$f":"IF(ISBLANK(A191),\"\",H191*2.2046)","v":0},null,{"$f":"IF(ISBLANK(A191),\"\",J191*2.2046)","v":0},{"$f":"IF(ISBLANK(A191),\"\",F191+H191+J191)","v":0},{"$f":"IF(ISBLANK(A191),\"\",L191*2.2046)","v":0},{"$f":"IF(ISBLANK(A191),\"\",L191*O191*P191)","v":{"$error":"#VALUE!"}},{"$f":"IF(ISNUMBER(B191),VLOOKUP(B191,af,2),\"\")","v":""},{"$f":"IF(ISNUMBER(C191),IF(LEFT(E191,1)=\"M\",VLOOKUP(C191,mwf,2),VLOOKUP(C191,wwf,2)),\"\")","v":""}]
[null,null,null,{"$f":"IF(ISBLANK(A192),\"\",C192*2.2046)","v":""},null,null,{"$f":"IF(ISBLANK(A192),\"\",F192*2.2046)","v":""},null,{"$f":"IF(ISBLANK(A192),\"\",H192*2.2046)","v":""},null,{"$f":"IF(ISBLANK(A192),\"\",J192*2.2046)","v":""},{"$f":"IF(ISBLANK(A192),\"\",F192+H192+J192)","v":""},{"$f":"IF(ISBLANK(A192),\"\",L192*2.2046)","v":""},{"$f":"IF(ISBLANK(A192),\"\",L192*O192*P192)","v":""},{"$f":"IF(ISNUMBER(B192),VLOOKUP(B192,af,2),\"\")","v":""},{"$f":"IF(ISNUMBER(C192),IF(LEFT(E192,1)=\"M\",VLOOKUP(C192,mwf,2),VLOOKUP(C192,wwf,2)),\"\")","v":""}]
[null,null,null,{"$f":"IF(ISBLANK(A193),\"\",C193*2.2046)","v":""},null,null,{"$f":"IF(ISBLANK(A193),\"\",F193*2.2046)","v":""},null,{"$f":"IF(ISBLANK(A193),\"\",H193*2.2046)","v":""},null,{"$f":"IF(ISBLANK(A193),\"\",J193*2.2046)","v":""},{"$f":"IF(ISBLANK(A193),\"\",F193+H193+J193)","v":""},{"$f":"IF(ISBLANK(A193),\"\",L193*2.2046)","v":""},{"$f":"IF(ISBLANK(A193),\"\",L193*O193*P193)","v":""},{"$f":"IF(ISNUMBER(B193),VLOOKUP(B193,af,2),\"\")","v":""},{"$f":"IF(ISNUMBER(C193),IF(LEFT(E193,1)=\"M\",VLOOKUP(C193,mwf,2),VLOOKUP(C193,wwf,2)),\"\")","v":""}]
["Men",null,null,{"$f":"IF(ISBLANK(A194),\"\",C194*2.2046)","v":0},null,null,{"$f":"IF(ISBLANK(A194),\"\",F194*2.2046)","v":0},null,{"$f":"IF(ISBLANK(A194),\"\",H194*2.2046)","v":0},null,{"$f":"IF(ISBLANK(A194),\"\",J194*2.2046)","v":0},{"$f":"IF(ISBLANK(A194),\"\",F194+H194+J194)","v":0},{"$f":"IF(ISBLANK(A194),\"\",L194*2.2046)","v":0},{"$f":"IF(ISBLANK(A194),\"\",L194*O194*P194)","v":{"$error":"#VALUE!"}},{"$f":"IF(ISNUMBER(B194),VLOOKUP(B194,af,2),\"\")","v":""},{"$f":"IF(ISNUMBER(C194),IF(LEFT(E194,1)=\"M\",VLOOKUP(C194,mwf,2),VLOOKUP(C194,wwf,2)),\"\")","v":""}]
["90.0kg/198.4lb Teen T3 (18-19) Men Single Ply APF",null,null,{"$f":"IF(ISBLANK(A195),\"\",C195*2.2046)","v":0},null,null,{"$f":"IF(ISBLANK(A195),\"\",F195*2.2046)","v":0},null,{"$f":"IF(ISBLANK(A195),\"\",H195*2.2046)","v":0},null,{"$f":"IF(ISBLANK(A195),\"\",J195*2.2046)","v":0},{"$f":"IF(ISBLANK(A195),\"\",F195+H195+J195)","v":0},{"$f":"IF(ISBLANK(A195),\"\",L195*2.2046)","v":0},{"$f":"IF(ISBLANK(A195),\"\",L195*O195*P195)","v":{"$error":"#VALUE!"}},{"$f":"IF(ISNUMBER(B195),VLOOKUP(B195,af,2),\"\")","v":""},{"$f":"IF(ISNUMBER(C195),IF(LEFT(E195,1)=\"M\",VLOOKUP(C195,mwf,2),VLOOKUP(C195,wwf,2)),\"\")","v":""}]
["Cody Clawson",18,84.3,185.84778,"M-SPT3",255,562.173,182.5,402.33950000000004,210,462.96600000000001,647.5,1427.4785000000002,695.27254999999991,1.06,1.0129999999999999]
[null,null,null,"",null,null,"",null,"",null,"","","","","",""]
["82.5kg/181.8lb Junior (20-23) Men Single Ply AAPF",null,null,0,null,null,0,null,0,null,0,0,0,{"$error":"#VALUE!"},"",""]
["Anthony Campo",20,80.8,178.13168000000002,"M-SPJR",205,451.94300000000004,175,385.80500000000001,235,518.08100000000002,615,1355.8290000000002,662.58870000000002,1.03,1.046]
[null,null,null,"",null,null,"",null,"",null,"","","","","",""]
["82.5kg/181.8lb Junior (20-23) Men Single Ply APF",null,null,0,null,null,0,null,0,null,0,0,0,{"$error":"#VALUE!"},"",""]
["Anthony Campo",20,80.8,178.13168000000002,"M-SPJR",205,451.94300000000004,175,385.80500000000001,235,518.08100000000002,615,1355.8290000000002,662.58870000000002,1.03,1.046]
[null,null,null,"",null,null,"",null,"",null,"","","","","",""]
["90.0kg/198.4lb Open Men Single Ply AAPF",null,null,0,null,null,0,null,0,null,0,0,0,{"$error":"#VALUE!"},"",""]
["Ryan Marble",30,89.8,197.97308000000001,"M-SPO",297.5,655.86850000000004,282.5,622.79950000000008,272.5,600.75350000000003,852.5,1879.4215000000002,826.92499999999995,1,0.97,"First Place"]
["Mike Saunders",37,89.3,196.87078,"M-SPO",0,0,302.5,666.89150000000006,null,0,302.5,666.89150000000006,294.63499999999999,1,0.97399999999999998,"DQ (Squat)"]
[null,null,null,"",null,null,"",null,"",null,"","","","","",""]
["90.0kg/198.4lb Open Men Single Ply APF",null,null,0,null,null,0,null,0,null,0,0,0,{"$error":"#VALUE!"},"",""]
["Ryan Marble",30,89.8,197.97308000000001,"M-SPO",297.5,655.86850000000004,282.5,622.79950000000008,272.5,600.75350000000003,852.5,1879.4215000000002,826.92499999999995,1,0.97]
[null,null,null,"",null,null,"",null,"",null,"","","","","",""]
["110.0kg/242.5lb Open Men Single Ply APF",null,null,0,null,null,0,null,0,null,0,0,0,{"$error":"#VALUE!"},"",""]
[null,null,null,"",null,null,"",null,"",null,"","","","","",""]
["140.0+kg/308.6+lb Open Men Single Ply APF",null,null,0,null,null,0,null,0,null,0,0,0,{"$error":"#VALUE!"},"",""]
["Arron Chavez",30,148,326.2808,"M-SPO",240,529.10400000000004,205,451.94300000000004,292.5,644.84550000000002,737.5,1625.8925000000002,613.6,1,0.83199999999999996]
[null,null,null,"",null,null,"",null,"",null,"","","","","",""]
["140.0+kg/308.6+lb Masters M1 (40-44) Men Single Ply APF",null,null,0,null,null,0,null,0,null,0,0,0,{"$error":"#VALUE!"},"",""]
["Arron Chavez",44,148,326.2808,"M-SPM1",240,529.10400000000004,205,451.94300000000004,292.5,644.84550000000002,737.5,1625.8925000000002,639.98479999999995,1.0429999999999999,0.83199999999999996]
[null,null,null,"",null,null,"",null,"",null,"","","","","",""]
[null,null,null,"",null,null,"",null,"",null,"","","","","",""]
[null,null,null,"",null,null,"",null,"",null,"","","","","",""]
[null,null,null,{"$f":"IF(ISBLANK(A221),\"\",C221*2.2046)","v":""},null,null,{"$f":"IF(ISBLANK(A221),\"\",F221*2.2046)","v":""},null,{"$f":"IF(ISBLANK(A221),\"\",H221*2.2046)","v":""},null,{"$f":"IF(ISBLANK(A221),\"\",J221*2.2046)","v":""},{"$f":"IF(ISBLANK(A221),\"\",F221+H221+J221)","v":""},{"$f":"IF(ISBLANK(A221),\"\",L221*2.2046)","v":""},{"$f":"IF(ISBLANK(A221),\"\",L221*O221*P221)","v":""},{"$f":"IF(ISNUMBER(B221),VLOOKUP(B221,af,2),\"\")","v":""},{"$f":"IF(ISNUMBER(C221),IF(LEFT(E221,1)=\"M\",VLOOKUP(C221,mwf,2),VLOOKUP(C221,wwf,2)),\"\")","v":""}]
["Powerlifting:  Multi Ply Division"]
["Women",null,null,{"$f":"IF(ISBLANK(A223),\"\",C223*2.2046)","v":0},null,null,{"$f":"IF(ISBLANK(A223),\"\",F223*2.2046)","v":0},null,{"$f":"IF(ISBLANK(A223),\"\",H223*2.2046)","v":0},null,{"$f":"IF(ISBLANK(A223),\"\",J223*2.2046)","v":0},{"$f":"IF(ISBLANK(A223),\"\",F223+H223+J223)","v":0},{"$f":"IF(ISBLANK(A223),\"\",L223*2.2046)","v":0},{"$f":"IF(ISBLANK(A223),\"\",L223*O223*P223)","v":{"$error":"#VALUE!"}},{"$f":"IF(ISNUMBER(B223),VLOOKUP(B223,af,2),\"\")","v":""},{"$f":"IF(ISNUMBER(C223),IF(LEFT(E223,1)=\"M\",VLOOKUP(C223,mwf,2),VLOOKUP(C223,wwf,2)),\"\")","v":""}]
["47.6kg/105lb Open Women Multiply APF",null,null,0,null,null,0,null,{"$f":"IF(ISBLANK(#REF!),\"\",H224*2.2046)","v":0},null,{"$f":"IF(ISBLANK(#REF!),\"\",J224*2.2046)","v":0},{"$f":"IF(ISBLANK(#REF!),\"\",F224+H224+J224)","v":0},{"$f":"IF(ISBLANK(#REF!),\"\",L224*2.2046)","v":0},{"$f":"IF(ISBLANK(#REF!),\"\",L224*O224*P224)","v":{"$error":"#VALUE!"}},"",""]
[" DQ - Cosette Neely ",38,47.6,104.93896000000001,"F-MPO",152.5,336.20150000000001,0,{"$f":"IF(ISBLANK(#REF!),\"\",H225*2.2046)","v":0},125,{"$f":"IF(ISBLANK(#REF!),\"\",J225*2.2046)","v":275.57499999999999},{"$f":"IF(ISBLANK(#REF!),\"\",F225+H225+J225)","v":277.5},{"$f":"IF(ISBLANK(#REF!),\"\",L225*2.2046)","v":611.77650000000006},{"$f":"IF(ISBLANK(#REF!),\"\",L225*O225*P225)","v":652.40250000000003},1,2.351,"DQ (Bench)"]
[null,null,null,"",null,null,"",null,{"$f":"IF(ISBLANK(A226),\"\",H226*2.2046)","v":""},null,{"$f":"IF(ISBLANK(A226),\"\",J226*2.2046)","v":""},{"$f":"IF(ISBLANK(A226),\"\",F226+H226+J226)","v":""},{"$f":"IF(ISBLANK(A226),\"\",L226*2.2046)","v":""},{"$f":"IF(ISBLANK(A226),\"\",L226*O226*P226)","v":""},"",""]
["90.0+kg/198.0+lb Open Women Multiply APF",null,null,0,null,null,0,null,0,null,0,0,0,{"$error":"#VALUE!"},"",""]
["Sara Schiff",30,102.6,226.19195999999999,"F-MPO",217.5,479.50050000000005,130,286.59800000000001,230,507.05800000000005,577.5,1273.1565000000001,781.35749999999996,1,1.353]
[null,null,null,"",null,null,"",null,"",null,"","","","","",""]
["90.0+kg/198.0+lb Masters M1 Women Multiply APF",null,null,0,null,null,0,null,0,null,0,0,0,{"$error":"#VALUE!"},"",""]
["Sara Schiff",41,102.6,226.19195999999999,"F-MPM1",217.5,479.50050000000005,130,286.59800000000001,230,507.05800000000005,577.5,1273.1565000000001,789.17107499999997,1.01,1.353]
[null,null,null,"",null,null,"",null,"",null,"","","","","",""]
[null,null,null,"",null,null,"",null,"",null,"","","","","",""]
["Men",null,null,0,null,null,0,null,0,null,0,0,0,{"$error":"#VALUE!"},"",""]
["75.0kg/165.3lb Open Men Multi Ply APF",null,null,{"$f":"IF(ISBLANK(A235),\"\",C235*2.2046)","v":0},null,null,{"$f":"IF(ISBLANK(A235),\"\",F235*2.2046)","v":0},null,{"$f":"IF(ISBLANK(A235),\"\",H235*2.2046)","v":0},null,{"$f":"IF(ISBLANK(A235),\"\",J235*2.2046)","v":0},{"$f":"IF(ISBLANK(A235),\"\",F235+H235+J235)","v":0},{"$f":"IF(ISBLANK(A235),\"\",L235*2.2046)","v":0},{"$f":"IF(ISBLANK(A235),\"\",L235*O235*P235)","v":{"$error":"#VALUE!"}},{"$f":"IF(ISNUMBER(B235),VLOOKUP(B235,af,2),\"\")","v":""},{"$f":"IF(ISNUMBER(C235),IF(LEFT(E235,1)=\"M\",VLOOKUP(C235,mwf,2),VLOOKUP(C235,wwf,2)),\"\")","v":""}]
["Misael Peraza",29,74.3,163.80178000000001,"M-MPO",300,661.38,167.5,369.27050000000003,260,573.19600000000003,727.5,1603.8465000000001,820.61999999999989,1,1.1279999999999999]
[null,null,null,"",null,null,"",null,"",null,"","","","","",""]
["82.5kg/181.8lb Open Men Multi Ply APF",null,null,0,null,null,0,null,0,null,0,0,0,{"$error":"#VALUE!"},"",""]
["Dana Walker",40,81.8,180.33628000000002,"M-MPO",352.5,777.12150000000008,null,0,null,0,352.5,777.12150000000008,365.19,1,1.036,"DQ (Bench)"]
[null,null,null,"",null,null,"",null,"",null,"","","","","",""]
["100.0kg/220.4lb Open Men Multi Ply APF",null,null,0,null,null,0,null,0,null,0,0,0,{"$error":"#VALUE!"},"",""]
["Dustin Johnson",29,99.2,218.69632000000001,"M-MPO",380,837.74800000000005,265,584.21900000000005,287.5,633.82249999999999,932.5,2055.7895000000003,856.96750000000009,1,0.91900000000000004]
[null,null,null,"",null,null,"",null,"",null,"","","","","",""]
["110.0kg/242.5lb Open Men Multi Ply APF",null,null,0,null,null,0,null,0,null,0,0,0,{"$error":"#VALUE!"},"",""]
["Dayan Neely",39,107.5,236.99450000000002,"M-MPO",387.5,854.28250000000003,145,319.66700000000003,340,749.56400000000008,872.5,1923.5135,777.39750000000004,1,0.89100000000000001]
[null,null,null,"",null,null,"",null,"",null,"","","","","",""]
["125.0kg/275.5lb Open Men Multi Ply APF",null,null,0,null,null,0,null,0,null,0,0,0,{"$error":"#VALUE!"},"",""]
["Dalen Randa",30,119.6,263.67016000000001,"M-MPO",387.5,854.28250000000003,332.5,733.02949999999998,287.5,633.82249999999999,1007.5,2221.1345000000001,871.48749999999995,1,0.86499999999999999,"First Place"]
["Jeffrey Miller",35,115.5,{"$f":"IF(ISBLANK(A249),\"\",C249*2.2046)","v":254.63130000000001},"M-MPO",427.5,{"$f":"IF(ISBLANK(A249),\"\",F249*2.2046)","v":942.4665},142.5,{"$f":"IF(ISBLANK(A249),\"\",H249*2.2046)","v":314.15550000000002},350,{"$f":"IF(ISBLANK(A249),\"\",J249*2.2046)","v":771.61},{"$f":"IF(ISBLANK(A249),\"\",F249+H249+J249)","v":920},{"$f":"IF(ISBLANK(A249),\"\",L249*2.2046)","v":2028.2320000000002},{"$f":"IF(ISBLANK(A249),\"\",L249*O249*P249)","v":802.24},{"$f":"IF(ISNUMBER(B249),VLOOKUP(B249,af,2),\"\")","v":1},{"$f":"IF(ISNUMBER(C249),IF(LEFT(E249,1)=\"M\",VLOOKUP(C249,mwf,2),VLOOKUP(C249,wwf,2)),\"\")","v":0.872},"Second Place"]
[null,null,null,"",null,null,"",null,"",null,"","","","","",""]
["125.0kg/275.5lb Masters M3 (50-54) Men Multi Ply APF",null,null,0,null,null,0,null,0,null,0,0,0,{"$error":"#VALUE!"},"",""]
["Dalen Randa",50,119.6,263.67016000000001,"M-MPM3",387.5,854.28250000000003,332.5,733.02949999999998,287.5,633.82249999999999,1007.5,2221.1345000000001,984.78087499999992,1.1299999999999999,0.86499999999999999]
[null,null,null,"",null,null,"",null,"",null,"","","","","",""]
[null,null,null,{"$f":"IF(ISBLANK(A254),\"\",C254*2.2046)","v":""},null,null,{"$f":"IF(ISBLANK(A254),\"\",F254*2.2046)","v":""},null,{"$f":"IF(ISBLANK(A254),\"\",H254*2.2046)","v":""},null,{"$f":"IF(ISBLANK(A254),\"\",J254*2.2046)","v":""},{"$f":"IF(ISBLANK(A254),\"\",F254+H254+J254)","v":""},{"$f":"IF(ISBLANK(A254),\"\",L254*2.2046)","v":""},{"$f":"IF(ISBLANK(A254),\"\",L254*O254*P254)","v":""},{"$f":"IF(ISNUMBER(B254),VLOOKUP(B254,af,2),\"\")","v":""},{"$f":"IF(ISNUMBER(C254),IF(LEFT(E254,1)=\"M\",VLOOKUP(C254,mwf,2),VLOOKUP(C254,wwf,2)),\"\")","v":""}]
["Bench Press:  Raw Division"]
["Women",null,null,{"$f":"IF(ISBLANK(A256),\"\",C256*2.2046)","v":0},null,null,{"$f":"IF(ISBLANK(A256),\"\",F256*2.2046)","v":0},null,{"$f":"IF(ISBLANK(A256),\"\",H256*2.2046)","v":0},null,{"$f":"IF(ISBLANK(A256),\"\",J256*2.2046)","v":0},{"$f":"IF(ISBLANK(A256),\"\",F256+H256+J256)","v":0},{"$f":"IF(ISBLANK(A256),\"\",L256*2.2046)","v":0},{"$f":"IF(ISBLANK(A256),\"\",L256*O256*P256)","v":{"$error":"#VALUE!"}},{"$f":"IF(ISNUMBER(B256),VLOOKUP(B256,af,2),\"\")","v":""},{"$f":"IF(ISNUMBER(C256),IF(LEFT(E256,1)=\"M\",VLOOKUP(C256,mwf,2),VLOOKUP(C256,wwf,2)),\"\")","v":""}]
["67.5kg/148.8lb Teen T3 Women Raw AAPF",null,null,{"$f":"IF(ISBLANK(A257),\"\",C257*2.2046)","v":0},null,null,{"$f":"IF(ISBLANK(A257),\"\",F257*2.2046)","v":0},null,{"$f":"IF(ISBLANK(A257),\"\",H257*2.2046)","v":0},null,{"$f":"IF(ISBLANK(A257),\"\",J257*2.2046)","v":0},{"$f":"IF(ISBLANK(A257),\"\",F257+H257+J257)","v":0},{"$f":"IF(ISBLANK(A257),\"\",L257*2.2046)","v":0},{"$f":"IF(ISBLANK(A257),\"\",L257*O257*P257)","v":{"$error":"#VALUE!"}},{"$f":"IF(ISNUMBER(B257),VLOOKUP(B257,af,2),\"\")","v":""},{"$f":"IF(ISNUMBER(C257),IF(LEFT(E257,1)=\"M\",VLOOKUP(C257,mwf,2),VLOOKUP(C257,wwf,2)),\"\")","v":""}]
["Alyssa Kroll",19,63.4,139.77163999999999,"F-RT3",null,0,80,176.36799999999999,null,0,80,176.36799999999999,145.09280000000004,1.06,1.7110000000000001]
[null,null,null,"",null,null,"",null,"",null,"","","","","",""]
["52.0kg/114.6lb Junior (20-23) Women Raw AAPF",null,null,0,null,null,0,null,0,null,0,0,0,{"$error":"#VALUE!"},"",""]
["Collette Smith ",22,51.4,113.31644,"F-RJR",null,0,52.5,115.7415,null,0,52.5,115.7415,112.35997500000001,1.01,2.1190000000000002]
[null,null,null,"",null,null,"",null,"",null,"","","","","",""]
["52.0kg/114.6lb Open Women Raw AAPF",null,null,0,null,null,0,null,0,null,0,0,0,{"$error":"#VALUE!"},"",""]
["Collette Smith ",30,51.4,113.31644,"F-RO",null,0,52.5,115.7415,null,0,52.5,115.7415,111.24750000000002,1,2.1190000000000002]
[null,null,null,"",null,null,"",null,"",null,"","","","","",""]
["56.0kg/123.4lb Open Women Raw APF",null,null,0,null,null,0,null,0,null,0,0,0,{"$error":"#VALUE!"},"",""]
[null,null,null,"",null,null,"",null,"",null,"","","","","",""]
["82.5kg/181.8lb Open Women Raw APF",null,null,0,null,null,0,null,0,null,0,0,0,{"$error":"#VALUE!"},"",""]
["Taylor Porter",30,80,176.36799999999999,"F-RO",null,0,80,176.36799999999999,null,0,80,176.36799999999999,119.76,1,1.4970000000000001]
[null,null,null,"",null,null,"",null,"",null,"","","","","",""]
[null,null,null,{"$f":"IF(ISBLANK(A271),\"\",C271*2.2046)","v":""},null,null,{"$f":"IF(ISBLANK(A271),\"\",F271*2.2046)","v":""},null,{"$f":"IF(ISBLANK(A271),\"\",H271*2.2046)","v":""},null,{"$f":"IF(ISBLANK(A271),\"\",J271*2.2046)","v":""},{"$f":"IF(ISBLANK(A271),\"\",F271+H271+J271)","v":""},{"$f":"IF(ISBLANK(A271),\"\",L271*2.2046)","v":""},{"$f":"IF(ISBLANK(A271),\"\",L271*O271*P271)","v":""},{"$f":"IF(ISNUMBER(B271),VLOOKUP(B271,af,2),\"\")","v":""},{"$f":"IF(ISNUMBER(C271),IF(LEFT(E271,1)=\"M\",VLOOKUP(C271,mwf,2),VLOOKUP(C271,wwf,2)),\"\")","v":""}]
["Men",null,null,{"$f":"IF(ISBLANK(A272),\"\",C272*2.2046)","v":0},null,null,{"$f":"IF(ISBLANK(A272),\"\",F272*2.2046)","v":0},null,{"$f":"IF(ISBLANK(A272),\"\",H272*2.2046)","v":0},null,{"$f":"IF(ISBLANK(A272),\"\",J272*2.2046)","v":0},{"$f":"IF(ISBLANK(A272),\"\",F272+H272+J272)","v":0},{"$f":"IF(ISBLANK(A272),\"\",L272*2.2046)","v":0},{"$f":"IF(ISBLANK(A272),\"\",L272*O272*P272)","v":{"$error":"#VALUE!"}},{"$f":"IF(ISNUMBER(B272),VLOOKUP(B272,af,2),\"\")","v":""},{"$f":"IF(ISNUMBER(C272),IF(LEFT(E272,1)=\"M\",VLOOKUP(C272,mwf,2),VLOOKUP(C272,wwf,2)),\"\")","v":""}]
["90.0kg/198.4lb Open Men Raw APF",null,null,{"$f":"IF(ISBLANK(A273),\"\",C273*2.2046)","v":0},null,null,{"$f":"IF(ISBLANK(A273),\"\",F273*2.2046)","v":0},null,{"$f":"IF(ISBLANK(A273),\"\",H273*2.2046)","v":0},null,{"$f":"IF(ISBLANK(A273),\"\",J273*2.2046)","v":0},{"$f":"IF(ISBLANK(A273),\"\",F273+H273+J273)","v":0},{"$f":"IF(ISBLANK(A273),\"\",L273*2.2046)","v":0},{"$f":"IF(ISBLANK(A273),\"\",L273*O273*P273)","v":{"$error":"#VALUE!"}},{"$f":"IF(ISNUMBER(B273),VLOOKUP(B273,af,2),\"\")","v":""},{"$f":"IF(ISNUMBER(C273),IF(LEFT(E273,1)=\"M\",VLOOKUP(C273,mwf,2),VLOOKUP(C273,wwf,2)),\"\")","v":""}]
["Greg Griffith",28,89.3,{"$f":"IF(ISBLANK(A274),\"\",C274*2.2046)","v":196.87078},"M-RO",null,{"$f":"IF(ISBLANK(A274),\"\",F274*2.2046)","v":0},200,{"$f":"IF(ISBLANK(A274),\"\",H274*2.2046)","v":440.92},null,{"$f":"IF(ISBLANK(A274),\"\",J274*2.2046)","v":0},{"$f":"IF(ISBLANK(A274),\"\",F274+H274+J274)","v":200},{"$f":"IF(ISBLANK(A274),\"\",L274*2.2046)","v":440.92},{"$f":"IF(ISBLANK(A274),\"\",L274*O274*P274)","v":194.79999999999998},{"$f":"IF(ISNUMBER(B274),VLOOKUP(B274,af,2),\"\")","v":1},{"$f":"IF(ISNUMBER(C274),IF(LEFT(E274,1)=\"M\",VLOOKUP(C274,mwf,2),VLOOKUP(C274,wwf,2)),\"\")","v":0.97399999999999998}]
[null,null,null,"",null,null,"",null,"",null,"","","","","",""]
["100.0kg/220.4lb Open Men Raw AAPF",null,null,0,null,null,0,null,0,null,0,0,0,{"$error":"#VALUE!"},"",""]
["Russell Jardine",26,97.9,215.83034000000004,"M-RO",null,0,170,374.78200000000004,null,0,170,374.78200000000004,157.08000000000001,1,0.92400000000000004]
[null,null,null,"",null,null,"",null,"",null,"","","","","",""]
["100.0kg/220.4lb Open Men Raw APF",null,null,0,null,null,0,null,0,null,0,0,0,{"$error":"#VALUE!"},"",""]
["Karl Pfanzelter",30,97.8,{"$f":"IF(ISBLANK(A280),\"\",C280*2.2046)","v":215.60988},"M-RO",null,{"$f":"IF(ISBLANK(A280),\"\",F280*2.2046)","v":0},230,{"$f":"IF(ISBLANK(A280),\"\",H280*2.2046)","v":507.05800000000005},null,{"$f":"IF(ISBLANK(A280),\"\",J280*2.2046)","v":0},{"$f":"IF(ISBLANK(A280),\"\",F280+H280+J280)","v":230},{"$f":"IF(ISBLANK(A280),\"\",L280*2.2046)","v":507.05800000000005},{"$f":"IF(ISBLANK(A280),\"\",L280*O280*P280)","v":212.52},{"$f":"IF(ISNUMBER(B280),VLOOKUP(B280,af,2),\"\")","v":1},{"$f":"IF(ISNUMBER(C280),IF(LEFT(E280,1)=\"M\",VLOOKUP(C280,mwf,2),VLOOKUP(C280,wwf,2)),\"\")","v":0.92400000000000004}]
[null,null,null,"",null,null,"",null,"",null,"","","","","",""]
["125.0kg/275.5lb Open Men Raw APF",null,null,0,null,null,0,null,0,null,0,0,0,{"$error":"#VALUE!"},"",""]
["Mike Brownfield",30,123.6,272.48856000000001,"M-RO",null,0,0,0,null,0,0,0,0,1,0.86,"DQ"]
[null,null,null,"",null,null,"",null,"",null,"","","","","",""]
["140.0kg/308.6lb Open Men Raw APF",null,null,0,null,null,0,null,0,null,0,0,0,{"$error":"#VALUE!"},"",""]
["Shay McQuiston",35,131.9,290.78674000000001,"M-RO",null,0,192.5,424.38550000000004,null,0,192.5,424.38550000000004,163.4325,1,0.84899999999999998]
[null,null,null,"",null,null,"",null,"",null,"","","","","",""]
["75.0kg/165.3lb Submasters (33-39) Men Raw APF",null,null,0,null,null,0,null,0,null,0,0,0,{"$error":"#VALUE!"},"",""]
["Ti Dyphibane",39,73.599999999999994,162.25855999999999,"M-RSM",null,0,145,319.66700000000003,null,0,145,319.66700000000003,165.155,1,1.139]
[null,null,null,"",null,null,"",null,"",null,"","","","","",""]
["140.0kg/308.6lb Submasters (33-39) Men Raw APF",null,null,0,null,null,0,null,0,null,0,0,0,{"$error":"#VALUE!"},"",""]
["Shay McQuiston",35,131.9,290.78674000000001,"M-RSM",null,0,192.5,424.38550000000004,null,0,192.5,424.38550000000004,163.4325,1,0.84899999999999998]
[null,null,null,"",null,null,"",null,"",null,"","","","","",""]
["125.0kg/275.5lb Masters M1 (40-44) Men Raw APF",null,null,0,null,null,0,null,0,null,0,0,0,{"$error":"#VALUE!"},"",""]
["Mike Brownfield",43,123.6,272.48856000000001,"M-RM1",null,0,0,0,null,0,0,0,0,1.0309999999999999,0.86,"DQ"]
[null,null,null,{"$f":"IF(ISBLANK(A296),\"\",C296*2.2046)","v":""},null,null,{"$f":"IF(ISBLANK(A296),\"\",F296*2.2046)","v":""},null,{"$f":"IF(ISBLANK(A296),\"\",H296*2.2046)","v":""},null,{"$f":"IF(ISBLANK(A296),\"\",J296*2.2046)","v":""},{"$f":"IF(ISBLANK(A296),\"\",F296+H296+J296)","v":""},{"$f":"IF(ISBLANK(A296),\"\",L296*2.2046)","v":""},{"$f":"IF(ISBLANK(A296),\"\",L296*O296*P296)","v":""},{"$f":"IF(ISNUMBER(B296),VLOOKUP(B296,af,2),\"\")","v":""},{"$f":"IF(ISNUMBER(C296),IF(LEFT(E296,1)=\"M\",VLOOKUP(C296,mwf,2),VLOOKUP(C296,wwf,2)),\"\")","v":""}]
["Bench Press:  Single Ply Division"]
["Women",null,null,{"$f":"IF(ISBLANK(A298),\"\",C298*2.2046)","v":0},null,null,{"$f":"IF(ISBLANK(A298),\"\",F298*2.2046)","v":0},null,{"$f":"IF(ISBLANK(A298),\"\",H298*2.2046)","v":0},null,{"$f":"IF(ISBLANK(A298),\"\",J298*2.2046)","v":0},{"$f":"IF(ISBLANK(A298),\"\",F298+H298+J298)","v":0},{"$f":"IF(ISBLANK(A298),\"\",L298*2.2046)","v":0},{"$f":"IF(ISBLANK(A298),\"\",L298*O298*P298)","v":{"$error":"#VALUE!"}},{"$f":"IF(ISNUMBER(B298),VLOOKUP(B298,af,2),\"\")","v":""},{"$f":"IF(ISNUMBER(C298),IF(LEFT(E298,1)=\"M\",VLOOKUP(C298,mwf,2),VLOOKUP(C298,wwf,2)),\"\")","v":""}]
["47.6kg/105lb Open Women SinglePly APF",null,null,0,null,null,0,null,0,null,0,0,0,{"$error":"#VALUE!"},"",""]
["Cosette Neely ",38,47.6,104.93896000000001,"F-SPO",null,0,0,0,null,0,0,0,0,1,2.351,"DQ "]
[null,null,null,"",null,null,"",null,"",null,"","","","","",""]
["Men",null,null,0,null,null,0,null,0,null,0,0,0,{"$error":"#VALUE!"},"",""]
["90.0kg/198.4lb Open Men Single Ply AAPF",null,null,0,null,null,0,null,0,null,0,0,0,{"$error":"#VALUE!"},"",""]
["Mike Saunders",37,89.3,{"$f":"IF(ISBLANK(A304),\"\",C304*2.2046)","v":196.87078},"M-SPO",0,{"$f":"IF(ISBLANK(A304),\"\",F304*2.2046)","v":0},302.5,{"$f":"IF(ISBLANK(A304),\"\",H304*2.2046)","v":666.89150000000006},null,{"$f":"IF(ISBLANK(A304),\"\",J304*2.2046)","v":0},{"$f":"IF(ISBLANK(A304),\"\",F304+H304+J304)","v":302.5},{"$f":"IF(ISBLANK(A304),\"\",L304*2.2046)","v":666.89150000000006},{"$f":"IF(ISBLANK(A304),\"\",L304*O304*P304)","v":294.63499999999999},{"$f":"IF(ISNUMBER(B304),VLOOKUP(B304,af,2),\"\")","v":1},{"$f":"IF(ISNUMBER(C304),IF(LEFT(E304,1)=\"M\",VLOOKUP(C304,mwf,2),VLOOKUP(C304,wwf,2)),\"\")","v":0.97399999999999998}]
[]
["Bench Press:  Multi Ply Division"]
["Women",null,null,{"$f":"IF(ISBLANK(A307),\"\",C307*2.2046)","v":0},null,null,{"$f":"IF(ISBLANK(A307),\"\",F307*2.2046)","v":0},null,{"$f":"IF(ISBLANK(A307),\"\",H307*2.2046)","v":0},null,{"$f":"IF(ISBLANK(A307),\"\",J307*2.2046)","v":0},{"$f":"IF(ISBLANK(A307),\"\",F307+H307+J307)","v":0},{"$f":"IF(ISBLANK(A307),\"\",L307*2.2046)","v":0},{"$f":"IF(ISBLANK(A307),\"\",L307*O307*P307)","v":{"$error":"#VALUE!"}},{"$f":"IF(ISNUMBER(B307),VLOOKUP(B307,af,2),\"\")","v":""},{"$f":"IF(ISNUMBER(C307),IF(LEFT(E307,1)=\"M\",VLOOKUP(C307,mwf,2),VLOOKUP(C307,wwf,2)),\"\")","v":""}]
[null,null,null,"",null,null,"",null,"",null,"","","","","",""]
[null,null,null,"",null,null,"",null,"",null,"","","","","",""]
[null,null,null,"",null,null,"",null,"",null,"","","","","",""]
["Men",null,null,0,null,null,0,null,0,null,0,0,0,{"$error":"#VALUE!"},"",""]
[null,null,null,"",null,null,"",null,"",null,"","","","","",""]
[null,null,null,"",null,null,"",null,"",null,"","","","","",""]
[null,null,null,"",null,null,"",null,"",null,"","","","","",""]
["Deadlift:  Raw Division"]
["Women",null,null,{"$f":"IF(ISBLANK(A316),\"\",C316*2.2046)","v":0},null,null,{"$f":"IF(ISBLANK(A316),\"\",F316*2.2046)","v":0},null,{"$f":"IF(ISBLANK(A316),\"\",H316*2.2046)","v":0},null,{"$f":"IF(ISBLANK(A316),\"\",J316*2.2046)","v":0},{"$f":"IF(ISBLANK(A316),\"\",F316+H316+J316)","v":0},{"$f":"IF(ISBLANK(A316),\"\",L316*2.2046)","v":0},{"$f":"IF(ISBLANK(A316),\"\",L316*O316*P316)","v":{"$error":"#VALUE!"}},{"$f":"IF(ISNUMBER(B316),VLOOKUP(B316,af,2),\"\")","v":""},{"$f":"IF(ISNUMBER(C316),IF(LEFT(E316,1)=\"M\",VLOOKUP(C316,mwf,2),VLOOKUP(C316,wwf,2)),\"\")","v":""}]
["52.0kg/114.6lb Junior (20-23) Women Raw AAPF",null,null,{"$f":"IF(ISBLANK(A317),\"\",C317*2.2046)","v":0},null,null,{"$f":"IF(ISBLANK(A317),\"\",F317*2.2046)","v":0},null,{"$f":"IF(ISBLANK(A317),\"\",H317*2.2046)","v":0},null,{"$f":"IF(ISBLANK(A317),\"\",J317*2.2046)","v":0},{"$f":"IF(ISBLANK(A317),\"\",F317+H317+J317)","v":0},{"$f":"IF(ISBLANK(A317),\"\",L317*2.2046)","v":0},{"$f":"IF(ISBLANK(A317),\"\",L317*O317*P317)","v":{"$error":"#VALUE!"}},{"$f":"IF(ISNUMBER(B317),VLOOKUP(B317,af,2),\"\")","v":""},{"$f":"IF(ISNUMBER(C317),IF(LEFT(E317,1)=\"M\",VLOOKUP(C317,mwf,2),VLOOKUP(C317,wwf,2)),\"\")","v":""}]
["Collette Smith ",22,51.4,113.31644,"F-RJR",null,0,null,0,120,264.55200000000002,120,264.55200000000002,256.82280000000003,1.01,2.1190000000000002]
[null,null,null,"",null,null,"",null,"",null,"","","","","",""]
["52.0kg/114.6lb Open Women Raw AAPF",null,null,0,null,null,0,null,0,null,0,0,0,{"$error":"#VALUE!"},"",""]
["Collette Smith ",30,51.4,113.31644,"F-RO",null,0,null,0,120,264.55200000000002,120,264.55200000000002,254.28000000000003,1,2.1190000000000002]
[null,null,null,"",null,null,"",null,"",null,"","","","","",""]
["82.5kg/181.8lb Open Women Raw APF",null,null,0,null,null,0,null,0,null,0,0,0,{"$error":"#VALUE!"},"",""]
["Taylor Porter",30,80,176.36799999999999,"F-RO",null,0,null,0,147.5,325.17850000000004,147.5,325.17850000000004,220.8075,1,1.4970000000000001]
[null,null,null,{"$f":"IF(ISBLANK(A325),\"\",C325*2.2046)","v":""},null,null,{"$f":"IF(ISBLANK(A325),\"\",F325*2.2046)","v":""},null,{"$f":"IF(ISBLANK(A325),\"\",H325*2.2046)","v":""},null,{"$f":"IF(ISBLANK(A325),\"\",J325*2.2046)","v":""},{"$f":"IF(ISBLANK(A325),\"\",F325+H325+J325)","v":""},{"$f":"IF(ISBLANK(A325),\"\",L325*2.2046)","v":""},{"$f":"IF(ISBLANK(A325),\"\",L325*O325*P325)","v":""},{"$f":"IF(ISNUMBER(B325),VLOOKUP(B325,af,2),\"\")","v":""},{"$f":"IF(ISNUMBER(C325),IF(LEFT(E325,1)=\"M\",VLOOKUP(C325,mwf,2),VLOOKUP(C325,wwf,2)),\"\")","v":""}]
["Men",null,null,{"$f":"IF(ISBLANK(A326),\"\",C326*2.2046)","v":0},null,null,{"$f":"IF(ISBLANK(A326),\"\",F326*2.2046)","v":0},null,{"$f":"IF(ISBLANK(A326),\"\",H326*2.2046)","v":0},null,{"$f":"IF(ISBLANK(A326),\"\",J326*2.2046)","v":0},{"$f":"IF(ISBLANK(A326),\"\",F326+H326+J326)","v":0},{"$f":"IF(ISBLANK(A326),\"\",L326*2.2046)","v":0},{"$f":"IF(ISBLANK(A326),\"\",L326*O326*P326)","v":{"$error":"#VALUE!"}},{"$f":"IF(ISNUMBER(B326),VLOOKUP(B326,af,2),\"\")","v":""},{"$f":"IF(ISNUMBER(C326),IF(LEFT(E326,1)=\"M\",VLOOKUP(C326,mwf,2),VLOOKUP(C326,wwf,2)),\"\")","v":""}]
["125.0kg/275.5lb Open Men Raw APF",null,null,{"$f":"IF(ISBLANK(A327),\"\",C327*2.2046)","v":0},null,null,{"$f":"IF(ISBLANK(A327),\"\",F327*2.2046)","v":0},null,{"$f":"IF(ISBLANK(A327),\"\",H327*2.2046)","v":0},null,{"$f":"IF(ISBLANK(A327),\"\",J327*2.2046)","v":0},{"$f":"IF(ISBLANK(A327),\"\",F327+H327+J327)","v":0},{"$f":"IF(ISBLANK(A327),\"\",L327*2.2046)","v":0},{"$f":"IF(ISBLANK(A327),\"\",L327*O327*P327)","v":{"$error":"#VALUE!"}},{"$f":"IF(ISNUMBER(B327),VLOOKUP(B327,af,2),\"\")","v":""},{"$f":"IF(ISNUMBER(C327),IF(LEFT(E327,1)=\"M\",VLOOKUP(C327,mwf,2),VLOOKUP(C327,wwf,2)),\"\")","v":""}]
["Mike Brownfield",30,123.6,272.48856000000001,"M-RO",null,0,null,0,292.5,644.84550000000002,292.5,644.84550000000002,251.54999999999998,1,0.86]
[null,null,null,"",null,null,"",null,"",null,"","","","","",""]
["125.0kg/275.5lb Masters M1 (40-44) Men Raw APF",null,null,{"$f":"IF(ISBLANK(A330),\"\",C330*2.2046)","v":0},null,null,{"$f":"IF(ISBLANK(A330),\"\",F330*2.2046)","v":0},null,{"$f":"IF(ISBLANK(A330),\"\",H330*2.2046)","v":0},null,{"$f":"IF(ISBLANK(A330),\"\",J330*2.2046)","v":0},{"$f":"IF(ISBLANK(A330),\"\",F330+H330+J330)","v":0},{"$f":"IF(ISBLANK(A330),\"\",L330*2.2046)","v":0},{"$f":"IF(ISBLANK(A330),\"\",L330*O330*P330)","v":{"$error":"#VALUE!"}},{"$f":"IF(ISNUMBER(B330),VLOOKUP(B330,af,2),\"\")","v":""},{"$f":"IF(ISNUMBER(C330),IF(LEFT(E330,1)=\"M\",VLOOKUP(C330,mwf,2),VLOOKUP(C330,wwf,2)),\"\")","v":""}]
["Mike Brownfield",43,123.6,{"$f":"IF(ISBLANK(A331),\"\",C331*2.2046)","v":272.48856000000001},"M-RM1",null,{"$f":"IF(ISBLANK(A331),\"\",F331*2.2046)","v":0},null,{"$f":"IF(ISBLANK(A331),\"\",H331*2.2046)","v":0},292.5,{"$f":"IF(ISBLANK(A331),\"\",J331*2.2046)","v":644.84550000000002},{"$f":"IF(ISBLANK(A331),\"\",F331+H331+J331)","v":292.5},{"$f":"IF(ISBLANK(A331),\"\",L331*2.2046)","v":644.84550000000002},{"$f":"IF(ISBLANK(A331),\"\",L331*O331*P331)","v":259.34805},{"$f":"IF(ISNUMBER(B331),VLOOKUP(B331,af,2),\"\")","v":1.0309999999999999},{"$f":"IF(ISNUMBER(C331),IF(LEFT(E331,1)=\"M\",VLOOKUP(C331,mwf,2),VLOOKUP(C331,wwf,2)),\"\")","v":0.86}]
[null,null,null,"",null,null,"",null,"",null,"","","","","",""]
["90.0kg/198.4lb Open Men Raw APF",null,null,{"$f":"IF(ISBLANK(A333),\"\",C333*2.2046)","v":0},null,null,{"$f":"IF(ISBLANK(A333),\"\",F333*2.2046)","v":0},null,{"$f":"IF(ISBLANK(A333),\"\",H333*2.2046)","v":0},null,{"$f":"IF(ISBLANK(A333),\"\",J333*2.2046)","v":0},{"$f":"IF(ISBLANK(A333),\"\",F333+H333+J333)","v":0},{"$f":"IF(ISBLANK(A333),\"\",L333*2.2046)","v":0},{"$f":"IF(ISBLANK(A333),\"\",L333*O333*P333)","v":{"$error":"#VALUE!"}},{"$f":"IF(ISNUMBER(B333),VLOOKUP(B333,af,2),\"\")","v":""},{"$f":"IF(ISNUMBER(C333),IF(LEFT(E333,1)=\"M\",VLOOKUP(C333,mwf,2),VLOOKUP(C333,wwf,2)),\"\")","v":""}]
["Jake Benson",30,89.1,{"$f":"IF(ISBLANK(A334),\"\",C334*2.2046)","v":196.42985999999999},"M-RO",null,{"$f":"IF(ISBLANK(A334),\"\",F334*2.2046)","v":0},null,{"$f":"IF(ISBLANK(A334),\"\",H334*2.2046)","v":0},310,{"$f":"IF(ISBLANK(A334),\"\",J334*2.2046)","v":683.42600000000004},{"$f":"IF(ISBLANK(A334),\"\",F334+H334+J334)","v":310},{"$f":"IF(ISBLANK(A334),\"\",L334*2.2046)","v":683.42600000000004},{"$f":"IF(ISBLANK(A334),\"\",L334*O334*P334)","v":302.56},{"$f":"IF(ISNUMBER(B334),VLOOKUP(B334,af,2),\"\")","v":1},{"$f":"IF(ISNUMBER(C334),IF(LEFT(E334,1)=\"M\",VLOOKUP(C334,mwf,2),VLOOKUP(C334,wwf,2)),\"\")","v":0.97599999999999998}]
[]
["90.0kg/198.4lb Junior (20-23) Men Raw APF",null,null,{"$f":"IF(ISBLANK(A336),\"\",C336*2.2046)","v":0},null,null,{"$f":"IF(ISBLANK(A336),\"\",F336*2.2046)","v":0},null,{"$f":"IF(ISBLANK(A336),\"\",H336*2.2046)","v":0},null,{"$f":"IF(ISBLANK(A336),\"\",J336*2.2046)","v":0},{"$f":"IF(ISBLANK(A336),\"\",F336+H336+J336)","v":0},{"$f":"IF(ISBLANK(A336),\"\",L336*2.2046)","v":0},{"$f":"IF(ISBLANK(A336),\"\",L336*O336*P336)","v":{"$error":"#VALUE!"}},{"$f":"IF(ISNUMBER(B336),VLOOKUP(B336,af,2),\"\")","v":""},{"$f":"IF(ISNUMBER(C336),IF(LEFT(E336,1)=\"M\",VLOOKUP(C336,mwf,2),VLOOKUP(C336,wwf,2)),\"\")","v":""}]
["Jake Benson",23,89.1,{"$f":"IF(ISBLANK(A337),\"\",C337*2.2046)","v":196.42985999999999},"M-RJ",null,{"$f":"IF(ISBLANK(A337),\"\",F337*2.2046)","v":0},null,{"$f":"IF(ISBLANK(A337),\"\",H337*2.2046)","v":0},310,{"$f":"IF(ISBLANK(A337),\"\",J337*2.2046)","v":683.42600000000004},{"$f":"IF(ISBLANK(A337),\"\",F337+H337+J337)","v":310},{"$f":"IF(ISBLANK(A337),\"\",L337*2.2046)","v":683.42600000000004},{"$f":"IF(ISBLANK(A337),\"\",L337*O337*P337)","v":302.56},{"$f":"IF(ISNUMBER(B337),VLOOKUP(B337,af,2),\"\")","v":1},{"$f":"IF(ISNUMBER(C337),IF(LEFT(E337,1)=\"M\",VLOOKUP(C337,mwf,2),VLOOKUP(C337,wwf,2)),\"\")","v":0.97599999999999998}]
[null,null,null,{"$f":"IF(ISBLANK(A338),\"\",C338*2.2046)","v":""},null,null,{"$f":"IF(ISBLANK(A338),\"\",F338*2.2046)","v":""},null,{"$f":"IF(ISBLANK(A338),\"\",H338*2.2046)","v":""},null,{"$f":"IF(ISBLANK(A338),\"\",J338*2.2046)","v":""},{"$f":"IF(ISBLANK(A338),\"\",F338+H338+J338)","v":""},{"$f":"IF(ISBLANK(A338),\"\",L338*2.2046)","v":""},{"$f":"IF(ISBLANK(A338),\"\",L338*O338*P338)","v":""},{"$f":"IF(ISNUMBER(B338),VLOOKUP(B338,af,2),\"\")","v":""},{"$f":"IF(ISNUMBER(C338),IF(LEFT(E338,1)=\"M\",VLOOKUP(C338,mwf,2),VLOOKUP(C338,wwf,2)),\"\")","v":""}]
["Deadlift:  Single Ply Division"]
["Women",null,null,{"$f":"IF(ISBLANK(A340),\"\",C340*2.2046)","v":0},null,null,{"$f":"IF(ISBLANK(A340),\"\",F340*2.2046)","v":0},null,{"$f":"IF(ISBLANK(A340),\"\",H340*2.2046)","v":0},null,{"$f":"IF(ISBLANK(A340),\"\",J340*2.2046)","v":0},{"$f":"IF(ISBLANK(A340),\"\",F340+H340+J340)","v":0},{"$f":"IF(ISBLANK(A340),\"\",L340*2.2046)","v":0},{"$f":"IF(ISBLANK(A340),\"\",L340*O340*P340)","v":{"$error":"#VALUE!"}},{"$f":"IF(ISNUMBER(B340),VLOOKUP(B340,af,2),\"\")","v":""},{"$f":"IF(ISNUMBER(C340),IF(LEFT(E340,1)=\"M\",VLOOKUP(C340,mwf,2),VLOOKUP(C340,wwf,2)),\"\")","v":""}]
[null,null,null,"",null,null,"",null,"",null,"","","","","",""]
[null,null,null,"",null,null,"",null,"",null,"","","","","",""]
[null,null,null,"",null,null,"",null,"",null,"","","","","",""]
["Men",null,null,0,null,null,0,null,0,null,0,0,0,{"$error":"#VALUE!"},"",""]
[null,null,null,"",null,null,"",null,"",null,"","","","","",""]
[null,null,null,"",null,null,"",null,"",null,"","","","","",""]
[null,null,null,"",null,null,"",null,"",null,"","","","","",""]
[null,null,null,"",null,null,"",null,"",null,"","","","","",""]
["Deadlift:  Multi Ply Division"]
["Women",null,null,{"$f":"IF(ISBLANK(A350),\"\",C350*2.2046)","v":0},null,null,{"$f":"IF(ISBLANK(A350),\"\",F350*2.2046)","v":0},null,{"$f":"IF(ISBLANK(A350),\"\",H350*2.2046)","v":0},null,{"$f":"IF(ISBLANK(A350),\"\",J350*2.2046)","v":0},{"$f":"IF(ISBLANK(A350),\"\",F350+H350+J350)","v":0},{"$f":"IF(ISBLANK(A350),\"\",L350*2.2046)","v":0},{"$f":"IF(ISBLANK(A350),\"\",L350*O350*P350)","v":{"$error":"#VALUE!"}},{"$f":"IF(ISNUMBER(B350),VLOOKUP(B350,af,2),\"\")","v":""},{"$f":"IF(ISNUMBER(C350),IF(LEFT(E350,1)=\"M\",VLOOKUP(C350,mwf,2),VLOOKUP(C350,wwf,2)),\"\")","v":""}]
["90.0+kg/198.0+lb Open Women Multiply APF",null,null,{"$f":"IF(ISBLANK(A351),\"\",C351*2.2046)","v":0},null,null,{"$f":"IF(ISBLANK(A351),\"\",F351*2.2046)","v":0},null,{"$f":"IF(ISBLANK(A351),\"\",H351*2.2046)","v":0},null,{"$f":"IF(ISBLANK(A351),\"\",J351*2.2046)","v":0},{"$f":"IF(ISBLANK(A351),\"\",F351+H351+J351)","v":0},{"$f":"IF(ISBLANK(A351),\"\",L351*2.2046)","v":0},{"$f":"IF(ISBLANK(A351),\"\",L351*O351*P351)","v":{"$error":"#VALUE!"}},{"$f":"IF(ISNUMBER(B351),VLOOKUP(B351,af,2),\"\")","v":""},{"$f":"IF(ISNUMBER(C351),IF(LEFT(E351,1)=\"M\",VLOOKUP(C351,mwf,2),VLOOKUP(C351,wwf,2)),\"\")","v":""}]
["Sara Schiff",30,102.6,226.19195999999999,"F-MPO",null,0,null,0,230,507.05800000000005,230,507.05800000000005,311.19,1,1.353]
[null,null,null,"",null,null,"",null,"",null,"","","","","",""]
["90.0+kg/198.0+lb Masters M1 (40-44) Women Multiply APF",null,null,0,null,null,0,null,0,null,0,0,0,{"$error":"#VALUE!"},"",""]
["Sara Schiff",41,102.6,226.19195999999999,"F-MPM1",null,0,null,0,230,507.05800000000005,230,507.05800000000005,314.30189999999999,1.01,1.353]
[]
["47.6kg/105lb Open Women SinglePly APF",null,null,{"$f":"IF(ISBLANK(A357),\"\",C357*2.2046)","v":0},null,null,{"$f":"IF(ISBLANK(A357),\"\",F357*2.2046)","v":0},null,{"$f":"IF(ISBLANK(A357),\"\",H357*2.2046)","v":0},null,{"$f":"IF(ISBLANK(A357),\"\",J357*2.2046)","v":0},{"$f":"IF(ISBLANK(A357),\"\",F357+H357+J357)","v":0},{"$f":"IF(ISBLANK(A357),\"\",L357*2.2046)","v":0},{"$f":"IF(ISBLANK(A357),\"\",L357*O357*P357)","v":{"$error":"#VALUE!"}},{"$f":"IF(ISNUMBER(B357),VLOOKUP(B357,af,2),\"\")","v":""},{"$f":"IF(ISNUMBER(C357),IF(LEFT(E357,1)=\"M\",VLOOKUP(C357,mwf,2),VLOOKUP(C357,wwf,2)),\"\")","v":""}]
["Cosette Neely ",38,47.6,{"$f":"IF(ISBLANK(A358),\"\",C358*2.2046)","v":104.93896000000001},"F-MPO",null,{"$f":"IF(ISBLANK(A358),\"\",F358*2.2046)","v":0},0,{"$f":"IF(ISBLANK(A358),\"\",H358*2.2046)","v":0},125,{"$f":"IF(ISBLANK(A358),\"\",J358*2.2046)","v":275.57499999999999},{"$f":"IF(ISBLANK(A358),\"\",F358+H358+J358)","v":125},{"$f":"IF(ISBLANK(A358),\"\",L358*2.2046)","v":275.57499999999999},{"$f":"IF(ISBLANK(A358),\"\",L358*O358*P358)","v":293.875},{"$f":"IF(ISNUMBER(B358),VLOOKUP(B358,af,2),\"\")","v":1},{"$f":"IF(ISNUMBER(C358),IF(LEFT(E358,1)=\"M\",VLOOKUP(C358,mwf,2),VLOOKUP(C358,wwf,2)),\"\")","v":2.351}]
[null,null,null,"",null,null,"",null,"",null,"","","","","",""]
[null,null,null,{"$f":"IF(ISBLANK(A360),\"\",C360*2.2046)","v":""},null,null,{"$f":"IF(ISBLANK(A360),\"\",F360*2.2046)","v":""},null,{"$f":"IF(ISBLANK(A360),\"\",H360*2.2046)","v":""},null,{"$f":"IF(ISBLANK(A360),\"\",J360*2.2046)","v":""},{"$f":"IF(ISBLANK(A360),\"\",F360+H360+J360)","v":""},{"$f":"IF(ISBLANK(A360),\"\",L360*2.2046)","v":""},{"$f":"IF(ISBLANK(A360),\"\",L360*O360*P360)","v":""},{"$f":"IF(ISNUMBER(B360),VLOOKUP(B360,af,2),\"\")","v":""},{"$f":"IF(ISNUMBER(C360),IF(LEFT(E360,1)=\"M\",VLOOKUP(C360,mwf,2),VLOOKUP(C360,wwf,2)),\"\")","v":""}]
["Men",null,null,0,null,null,0,null,0,null,0,0,0,{"$error":"#VALUE!"},"",""]
[null,null,null,"",null,null,"",null,"",null,"","","","","",""]
[null,null,null,"",null,null,"",null,"",null,"","","","","",""]
[null,null,null,"",null,null,"",null,"",null,"","","","","",""]
[null,null,null,"",null,null,"",null,"",null,"","","","","",""]
[]
["Best Lifters:"]
["Powerlift"]
["Womens Raw Open:  Kasey Smith"]
["Womens Classic Raw Submasters: Leslie Faragher"]
["Womens Multiply Open: Sara Schiff"]
["Mens Raw Junior: Jacob Lucas"]
["Mens Raw Open: Jacob Lucas"]
["Mens Classic Raw Junior: Taylor Griffiths"]
["Mens Classic Raw Open: Michael Lear"]
["Mens Classic Raw Submasters: Shay McQuiston"]
["Mens Classic Raw Masters M1: Nate Barnes"]
["Mens Single Ply Open: Ryan Marble"]
["Mens Multiply Open: Dalan Randa"]
["Bench Press"]
["Womens Raw Open: Taylor Porter"]
["Mens Raw Open: Karl Pfanzelter"]
["Deadlift"]

{"sheet":"Age Factors","index":1,"n_rows":67,"n_cols":2,"rows_kept":67,"cut":false,"hidden":false,"merged":[]}
[0,1]
[14,1.23]
[15,1.18]
[16,1.1299999999999999]
[17,1.08]
[18,1.06]
[20,1.03]
[21,1.02]
[22,1.01]
[23,1]
[24,1]
[25,1]
[26,1]
[27,1]
[28,1]
[29,1]
[30,1]
[31,1]
[32,1]
[33,1]
[34,1]
[35,1]
[36,1]
[37,1]
[38,1]
[39,1]
[40,1]
[41,1.01]
[42,1.02]
[43,1.0309999999999999]
[44,1.0429999999999999]
[45,1.0549999999999999]
[46,1.0680000000000001]
[47,1.0820000000000001]
[48,1.097]
[49,1.113]
[50,1.1299999999999999]
[51,1.147]
[52,1.165]
[53,1.1839999999999999]
[54,1.204]
[55,1.2250000000000001]
[56,1.246]
[57,1.268]
[58,1.2909999999999999]
[59,1.3149999999999999]
[60,1.34]
[61,1.3660000000000001]
[62,1.393]
[63,1.421]
[64,1.45]
[65,1.48]
[66,1.5109999999999999]
[67,1.5429999999999999]
[68,1.5760000000000001]
[69,1.61]
[70,1.645]
[71,1.681]
[72,1.718]
[73,1.756]
[74,1.7949999999999999]
[75,1.835]
[76,1.8759999999999999]
[77,1.9179999999999999]
[78,1.9610000000000001]
[79,2.0049999999999999]
[80,2.0499999999999998]

{"sheet":"Mens Wght Factor","index":2,"n_rows":506,"n_cols":2,"rows_kept":506,"cut":false,"hidden":false,"merged":[]}
[0,1.9550000000000001]
[50,1.9550000000000001]
[50.25,1.9370000000000001]
[50.5,1.92]
[50.75,1.9019999999999999]
[51,1.885]
[51.25,1.867]
[51.5,1.851]
[51.75,1.835]
[52,1.8180000000000001]
[52.25,1.8029999999999999]
[52.5,1.788]
[52.75,1.7729999999999999]
[53,1.758]
[53.25,1.7430000000000001]
[53.5,1.7270000000000001]
[53.75,1.712]
[54,1.6970000000000001]
[54.25,1.6819999999999999]
[54.5,1.667]
[54.75,1.655]
[55,1.6419999999999999]
[55.25,1.63]
[55.5,1.617]
[55.75,1.605]
[56,1.593]
[56.25,1.58]
[56.5,1.5680000000000001]
[56.75,1.5549999999999999]
[57,1.5429999999999999]
[57.25,1.5309999999999999]
[57.5,1.518]
[57.75,1.506]
[58,1.4970000000000001]
[58.25,1.488]
[58.5,1.478]
[58.75,1.4690000000000001]
[59,1.46]
[59.25,1.4510000000000001]
[59.5,1.4419999999999999]
[59.75,1.4319999999999999]
[60,1.423]
[60.25,1.4139999999999999]
[60.5,1.405]
[60.75,1.3979999999999999]
[61,1.391]
[61.25,1.3839999999999999]
[61.5,1.377]
[61.75,1.371]
[62,1.3640000000000001]
[62.25,1.357]
[62.5,1.35]
[62.75,1.343]
[63,1.3360000000000001]
[63.25,1.329]
[63.5,1.3220000000000001]
[63.75,1.3169999999999999]
[64,1.3109999999999999]
[64.25,1.306]
[64.5,1.3]
[64.75,1.2949999999999999]
[65,1.29]
[65.25,1.284]
[65.5,1.2789999999999999]
[65.75,1.2729999999999999]
[66,1.268]
[66.25,1.2629999999999999]
[66.5,1.2569999999999999]
[66.75,1.252]
[67,1.246]
[67.25,1.242]
[67.5,1.2370000000000001]
[67.75,1.2330000000000001]
[68,1.228]
[68.25,1.224]
[68.5,1.2190000000000001]
[68.75,1.2150000000000001]
[69,1.21]
[69.25,1.206]
[69.5,1.202]
[69.75,1.198]
[70,1.194]
[70.25,1.19]
[70.5,1.1859999999999999]
[70.75,1.1819999999999999]
[71,1.1779999999999999]
[71.25,1.1739999999999999]
[71.5,1.17]
[71.75,1.1659999999999999]
[72,1.1619999999999999]
[72.25,1.1579999999999999]
[72.5,1.155]
[72.75,1.151]
[73,1.147]
[73.25,1.143]
[73.5,1.139]
[73.75,1.1359999999999999]
[74,1.1319999999999999]
[74.25,1.1279999999999999]
[74.5,1.1240000000000001]
[74.75,1.1200000000000001]
[75,1.117]
[75.25,1.1140000000000001]
[75.5,1.1100000000000001]
[75.75,1.107]
[76,1.103]
[76.25,1.1000000000000001]
[76.5,1.1060000000000001]
[76.75,1.093]
[77,1.0900000000000001]
[77.25,1.087]
[77.5,1.0840000000000001]
[77.75,1.081]
[78,1.0780000000000001]
[78.25,1.075]
[78.5,1.0720000000000001]
[78.75,1.069]
[79,1.0660000000000001]
[79.25,1.0629999999999999]
[79.5,1.06]
[79.75,1.0569999999999999]
[80,1.054]
[80.25,1.0509999999999999]
[80.5,1.048]
[80.75,1.046]
[81,1.044]
[81.25,1.0409999999999999]
[81.5,1.0389999999999999]
[81.75,1.036]
[82,1.034]
[82.25,1.0309999999999999]
[82.5,1.0289999999999999]
[82.75,1.026]
[83,1.024]
[83.25,1.022]
[83.5,1.0189999999999999]
[83.75,1.0169999999999999]
[84,1.0149999999999999]
[84.25,1.0129999999999999]
[84.5,1.0109999999999999]
[84.75,1.008]
[85,1.006]
[85.25,1.004]
[85.5,1.002]
[85.75,1]
[86,0.998]
[86.25,0.996]
[86.5,0.99399999999999999]
[86.75,0.99199999999999999]
[87,0.99]
[87.25,0.98799999999999999]
[87.5,0.98699999999999999]
[87.75,0.98499999999999999]
[88,0.98299999999999998]
[88.25,0.98099999999999998]
[88.5,0.97899999999999998]
[88.75,0.97799999999999998]
[89,0.97599999999999998]
[89.25,0.97399999999999998]
[89.5,0.97199999999999998]
[89.75,0.97]
[90,0.96899999999999997]
[90.25,0.96699999999999997]
[90.5,0.96499999999999997]
[90.75,0.96299999999999997]
[91,0.96099999999999997]
[91.25,0.96]
[91.5,0.95799999999999996]
[91.75,0.95599999999999996]
[92,0.95399999999999996]
[92.25,0.95199999999999996]
[92.5,0.95099999999999996]
[92.75,0.95]
[93,0.94799999999999995]
[93.25,0.94699999999999995]
[93.5,0.94499999999999995]
[93.75,0.94399999999999995]
[94,0.94199999999999995]
[94.25,0.94099999999999995]
[94.5,0.93899999999999995]
[94.75,0.93799999999999994]
[95,0.93700000000000006]
[95.25,0.93500000000000005]
[95.5,0.93400000000000005]
[95.75,0.93300000000000005]
[96,0.93200000000000005]
[96.25,0.93100000000000005]
[96.5,0.92900000000000005]
[96.75,0.92800000000000005]
[97,0.92700000000000005]
[97.25,0.92600000000000005]
[97.5,0.92500000000000004]
[97.75,0.92400000000000004]
[98,0.92300000000000004]
[98.25,0.92200000000000004]
[98.5,0.92100000000000004]
[98.75,0.92]
[99,0.91900000000000004]
[99.25,0.91800000000000004]
[99.5,0.91700000000000004]
[99.75,0.91600000000000004]
[100,0.91500000000000004]
[100.25,0.91400000000000003]
[100.5,0.91300000000000003]
[100.75,0.91200000000000003]
[101,0.91100000000000003]
[101.25,0.91]
[101.5,0.90900000000000003]
[101.75,0.90900000000000003]
[102,0.90800000000000003]
[102.25,0.90700000000000003]
[102.5,0.90600000000000003]
[102.75,0.90500000000000003]
[103,0.90400000000000003]
[103.25,0.90400000000000003]
[103.5,0.90300000000000002]
[103.75,0.90200000000000002]
[104,0.90100000000000002]
[104.25,0.9]
[104.5,0.89900000000000002]
[104.75,0.89900000000000002]
[105,0.89800000000000002]
[105.25,0.89800000000000002]
[105.5,0.89700000000000002]
[105.75,0.89600000000000002]
[106,0.89500000000000002]
[106.25,0.89400000000000002]
[106.5,0.89400000000000002]
[106.75,0.89300000000000002]
[107,0.89200000000000002]
[107.25,0.89200000000000002]
[107.5,0.89100000000000001]
[107.75,0.89]
[108,0.89]
[108.25,0.88900000000000001]
[108.5,0.88900000000000001]
[108.75,0.88800000000000001]
[109,0.88700000000000001]
[109.25,0.88700000000000001]
[109.5,0.88600000000000001]
[109.75,0.88500000000000001]
[110,0.88500000000000001]
[110.25,0.88400000000000001]
[110.5,0.88300000000000001]
[110.75,0.88300000000000001]
[111,0.88200000000000001]
[111.25,0.88100000000000001]
[111.5,0.88100000000000001]
[111.75,0.88]
[112,0.879]
[112.25,0.879]
[112.5,0.878]
[112.75,0.878]
[113,0.877]
[113.25,0.876]
[113.5,0.876]
[113.75,0.875]
[114,0.875]
[114.25,0.874]
[114.5,0.873]
[114.75,0.873]
[115,0.873]
[115.25,0.872]
[115.5,0.872]
[115.75,0.871]
[116,0.871]
[116.25,0.87]
[116.5,0.87]
[116.75,0.86899999999999999]
[117,0.86899999999999999]
[117.25,0.86799999999999999]
[117.5,0.86799999999999999]
[117.75,0.86799999999999999]
[118,0.86699999999999999]
[118.25,0.86699999999999999]
[118.5,0.86599999999999999]
[118.75,0.86599999999999999]
[119,0.86599999999999999]
[119.25,0.86499999999999999]
[119.5,0.86499999999999999]
[119.75,0.86399999999999999]
[120,0.86399999999999999]
[120.25,0.86399999999999999]
[120.5,0.86299999999999999]
[120.75,0.86299999999999999]
[121,0.86199999999999999]
[121.25,0.86199999999999999]
[121.5,0.86199999999999999]
[121.75,0.86099999999999999]
[122,0.86099999999999999]
[122.25,0.86099999999999999]
[122.5,0.86099999999999999]
[122.75,0.86]
[123,0.86]
[123.25,0.86]
[123.5,0.86]
[123.75,0.85899999999999999]
[124,0.85899999999999999]
[124.25,0.85899999999999999]
[124.5,0.85799999999999998]
[124.75,0.85799999999999998]
[125,0.85799999999999998]
[125.25,0.85699999999999998]
[125.5,0.85699999999999998]
[125.75,0.85699999999999998]
[126,0.85699999999999998]
[126.25,0.85599999999999998]
[126.5,0.85599999999999998]
[126.75,0.85599999999999998]
[127,0.85499999999999998]
[127.25,0.85499999999999998]
[127.5,0.85399999999999998]
[127.75,0.85399999999999998]
[128,0.85399999999999998]
[128.25,0.85399999999999998]
[128.5,0.85299999999999998]
[128.75,0.85299999999999998]
[129,0.85299999999999998]
[129.25,0.85199999999999998]
[129.5,0.85199999999999998]
[129.75,0.85199999999999998]
[130,0.85099999999999998]
[130.25,0.85099999999999998]
[130.5,0.85099999999999998]
[130.75,0.85099999999999998]
[131,0.85]
[131.25,0.85]
[131.5,0.85]
[131.75,0.84899999999999998]
[132,0.84899999999999998]
[132.25,0.84899999999999998]
[132.5,0.84799999999999998]
[132.75,0.84799999999999998]
[133,0.84799999999999998]
[133.25,0.84799999999999998]
[133.5,0.84699999999999998]
[133.75,0.84699999999999998]
[134,0.84699999999999998]
[134.25,0.84699999999999998]
[134.5,0.84699999999999998]
[134.75,0.84699999999999998]
[135,0.84599999999999997]
[135.25,0.84599999999999997]
[135.5,0.84499999999999997]
[135.75,0.84499999999999997]
[136,0.84499999999999997]
[136.25,0.84499999999999997]
[136.5,0.84399999999999997]
[136.75,0.84399999999999997]
[137,0.84399999999999997]
[137.25,0.84299999999999997]
[137.5,0.84299999999999997]
[137.75,0.84299999999999997]
[138,0.84199999999999997]
[138.25,0.84199999999999997]
[138.5,0.84199999999999997]
[138.75,0.84199999999999997]
[139,0.84099999999999997]
[139.25,0.84099999999999997]
[139.5,0.84099999999999997]
[139.75,0.84]
[140,0.84]
[140.25,0.84]
[140.5,0.84]
[140.75,0.84]
[141,0.83899999999999997]
[141.25,0.83899999999999997]
[141.5,0.83899999999999997]
[141.75,0.83899999999999997]
[142,0.83799999999999997]
[142.25,0.83799999999999997]
[142.5,0.83799999999999997]
[142.75,0.83799999999999997]
[143,0.83699999999999997]
[143.25,0.83699999999999997]
[143.5,0.83699999999999997]
[143.75,0.83699999999999997]
[144,0.83599999999999997]
[144.25,0.83599999999999997]
[144.5,0.83599999999999997]
[144.75,0.83599999999999997]
[145,0.83499999999999996]
[145.25,0.83499999999999996]
[145.5,0.83499999999999996]
[145.75,0.83499999999999996]
[146,0.83399999999999996]
[146.25,0.83399999999999996]
[146.5,0.83399999999999996]
[146.75,0.83399999999999996]
[147,0.83299999999999996]
[147.25,0.83299999999999996]
[147.5,0.83299999999999996]
[147.75,0.83299999999999996]
[148,0.83199999999999996]
[148.25,0.83199999999999996]
[148.5,0.83199999999999996]
[148.75,0.83199999999999996]
[149,0.83099999999999996]
[149.25,0.83099999999999996]
[149.5,0.83099999999999996]
[149.75,0.83099999999999996]
[150,0.83099999999999996]
[150.25,0.83]
[150.5,0.83]
[150.75,0.83]
[151,0.83]
[151.25,0.83]
[151.5,0.82899999999999996]
[151.75,0.82899999999999996]
[152,0.82899999999999996]
[152.25,0.82899999999999996]
[152.5,0.82899999999999996]
[152.75,0.82799999999999996]
[153,0.82799999999999996]
[153.25,0.82799999999999996]
[153.5,0.82799999999999996]
[153.75,0.82799999999999996]
[154,0.82799999999999996]
[154.25,0.82699999999999996]
[154.5,0.82699999999999996]
[154.75,0.82699999999999996]
[155,0.82699999999999996]
[155.25,0.82699999999999996]
[155.5,0.82699999999999996]
[155.75,0.82599999999999996]
[156,0.82599999999999996]
[156.25,0.82599999999999996]
[156.5,0.82599999999999996]
[156.75,0.82599999999999996]
[157,0.82599999999999996]
[157.25,0.82499999999999996]
[157.5,0.82499999999999996]
[157.75,0.82499999999999996]
[158,0.82499999999999996]
[158.25,0.82499999999999996]
[158.5,0.82499999999999996]
[158.75,0.82499999999999996]
[159,0.82399999999999995]
[159.25,0.82399999999999995]
[159.5,0.82399999999999995]
[159.75,0.82399999999999995]
[160,0.82399999999999995]
[160.25,0.82399999999999995]
[160.5,0.82399999999999995]
[160.75,0.82299999999999995]
[161,0.82299999999999995]
[161.25,0.82299999999999995]
[161.5,0.82299999999999995]
[161.75,0.82299999999999995]
[162,0.82299999999999995]
[162.25,0.82299999999999995]
[162.5,0.82199999999999995]
[162.75,0.82199999999999995]
[163,0.82199999999999995]
[163.25,0.82199999999999995]
[163.5,0.82199999999999995]
[163.75,0.82199999999999995]
[164,0.82199999999999995]
[164.25,0.82099999999999995]
[164.5,0.82099999999999995]
[164.75,0.82099999999999995]
[165,0.82099999999999995]
[165.25,0.82099999999999995]
[165.5,0.82099999999999995]
[165.75,0.82099999999999995]
[166,0.82]
[166.25,0.82]
[166.5,0.82]
[166.75,0.82]
[167,0.82]
[167.25,0.82]
[167.5,0.82]
[167.75,0.81899999999999995]
[168,0.81899999999999995]
[168.25,0.81899999999999995]
[168.5,0.81899999999999995]
[168.75,0.81899999999999995]
[169,0.81899999999999995]
[169.25,0.81899999999999995]
[169.5,0.81799999999999995]
[169.75,0.81799999999999995]
[170,0.81799999999999995]
[170.25,0.81799999999999995]
[170.5,0.81799999999999995]
[170.75,0.81799999999999995]
[171,0.81799999999999995]
[171.25,0.81799999999999995]
[171.5,0.81699999999999995]
[171.75,0.81699999999999995]
[172,0.81699999999999995]
[172.25,0.81699999999999995]
[172.5,0.81699999999999995]
[172.75,0.81699999999999995]
[173,0.81699999999999995]
[173.25,0.81699999999999995]
[173.5,0.81599999999999995]
[173.75,0.81599999999999995]
[174,0.81599999999999995]
[174.25,0.81599999999999995]
[174.5,0.81599999999999995]
[174.75,0.81599999999999995]
[175,0.81599999999999995]
[175.25,0.81599999999999995]
[175.5,0.81599999999999995]
[175.75,0.81599999999999995]
[999.99,0.81499999999999995]

{"sheet":"Womens Wght Factor","index":3,"n_rows":446,"n_cols":2,"rows_kept":446,"cut":false,"hidden":false,"merged":[]}
[0,3.145]
[40,3.145]
[40.25,3.105]
[40.5,3.0649999999999999]
[40.75,3.0249999999999999]
[41,2.9849999999999999]
[41.25,2.95]
[41.5,2.915]
[41.75,2.8820000000000001]
[42,2.8490000000000002]
[42.25,2.8170000000000002]
[42.5,2.786]
[42.75,2.7589999999999999]
[43,2.7320000000000002]
[43.25,2.706]
[43.5,2.681]
[43.75,2.6560000000000001]
[44,2.6320000000000001]
[44.25,2.61]
[44.5,2.589]
[44.75,2.5670000000000002]
[45,2.5449999999999999]
[45.25,2.5230000000000001]
[45.5,2.5030000000000001]
[45.75,2.4830000000000001]
[46,2.4630000000000001]
[46.25,2.4430000000000001]
[46.5,2.4239999999999999]
[46.75,2.4049999999999998]
[47,2.387]
[47.25,2.3690000000000002]
[47.5,2.351]
[47.75,2.3330000000000002]
[48,2.3149999999999999]
[48.25,2.2970000000000002]
[48.5,2.2799999999999998]
[48.75,2.2629999999999999]
[49,2.2469999999999999]
[49.25,2.2309999999999999]
[49.5,2.2160000000000002]
[49.75,2.202]
[50,2.1880000000000002]
[50.25,2.1739999999999999]
[50.5,2.16]
[50.75,2.1459999999999999]
[51,2.1320000000000001]
[51.25,2.1190000000000002]
[51.5,2.105]
[51.75,2.0920000000000001]
[52,2.0790000000000002]
[52.25,2.0659999999999998]
[52.5,2.0529999999999999]
[52.75,2.0409999999999999]
[53,2.028]
[53.25,2.016]
[53.5,2.004]
[53.75,1.994]
[54,1.984]
[54.25,1.974]
[54.5,1.9630000000000001]
[54.75,1.9530000000000001]
[55,1.9419999999999999]
[55.25,1.9319999999999999]
[55.5,1.923]
[55.75,1.9139999999999999]
[56,1.905]
[56.25,1.8959999999999999]
[56.5,1.887]
[56.75,1.8779999999999999]
[57,1.869]
[57.25,1.86]
[57.5,1.8520000000000001]
[57.75,1.845]
[58,1.8380000000000001]
[58.25,1.83]
[58.5,1.8220000000000001]
[58.75,1.8149999999999999]
[59,1.8080000000000001]
[59.25,1.802]
[59.5,1.7949999999999999]
[59.75,1.7889999999999999]
[60,1.7829999999999999]
[60.25,1.776]
[60.5,1.77]
[60.75,1.764]
[61,1.7569999999999999]
[61.25,1.7509999999999999]
[61.5,1.7450000000000001]
[61.75,1.74]
[62,1.7350000000000001]
[62.25,1.73]
[62.5,1.7250000000000001]
[62.75,1.72]
[63,1.7150000000000001]
[63.25,1.7110000000000001]
[63.5,1.7070000000000001]
[63.75,1.7030000000000001]
[64,1.698]
[64.25,1.694]
[64.5,1.69]
[64.75,1.6859999999999999]
[65,1.681]
[65.25,1.6759999999999999]
[65.5,1.6719999999999999]
[65.75,1.6679999999999999]
[66,1.6639999999999999]
[66.25,1.66]
[66.5,1.655]
[66.75,1.651]
[67,1.647]
[67.25,1.643]
[67.5,1.639]
[67.75,1.6339999999999999]
[68,1.631]
[68.25,1.627]
[68.5,1.623]
[68.75,1.62]
[69,1.6180000000000001]
[69.25,1.615]
[69.5,1.6120000000000001]
[69.75,1.6080000000000001]
[70,1.605]
[70.25,1.601]
[70.5,1.5980000000000001]
[70.75,1.595]
[71,1.5920000000000001]
[71.25,1.589]
[71.5,1.5860000000000001]
[71.75,1.583]
[72,1.58]
[72.25,1.577]
[72.5,1.5740000000000001]
[72.75,1.571]
[73,1.5669999999999999]
[73.25,1.5640000000000001]
[73.5,1.5609999999999999]
[73.75,1.5580000000000001]
[74,1.5549999999999999]
[74.25,1.552]
[74.5,1.5489999999999999]
[74.75,1.546]
[75,1.5429999999999999]
[75.25,1.5409999999999999]
[75.5,1.5389999999999999]
[75.75,1.536]
[76,1.534]
[76.25,1.5309999999999999]
[76.5,1.5289999999999999]
[76.75,1.526]
[77,1.524]
[77.25,1.5209999999999999]
[77.5,1.5189999999999999]
[77.75,1.5169999999999999]
[78,1.5149999999999999]
[78.25,1.512]
[78.5,1.51]
[78.75,1.508]
[79,1.506]
[79.25,1.5029999999999999]
[79.5,1.5009999999999999]
[79.75,1.4990000000000001]
[80,1.4970000000000001]
[80.25,1.494]
[80.5,1.492]
[80.75,1.49]
[81,1.488]
[81.25,1.4850000000000001]
[81.5,1.4830000000000001]
[81.75,1.4810000000000001]
[82,1.4790000000000001]
[82.25,1.4770000000000001]
[82.5,1.4750000000000001]
[82.75,1.4730000000000001]
[83,1.4710000000000001]
[83.25,1.4690000000000001]
[83.5,1.466]
[83.75,1.464]
[84,1.462]
[84.25,1.46]
[84.5,1.4570000000000001]
[84.75,1.4550000000000001]
[85,1.4530000000000001]
[85.25,1.4510000000000001]
[85.5,1.4490000000000001]
[85.75,1.4470000000000001]
[86,1.4450000000000001]
[86.25,1.4430000000000001]
[86.5,1.4419999999999999]
[86.75,1.44]
[87,1.4390000000000001]
[87.25,1.4370000000000001]
[87.5,1.4359999999999999]
[87.75,1.4339999999999999]
[88,1.4330000000000001]
[88.25,1.431]
[88.5,1.429]
[88.75,1.4279999999999999]
[89,1.427]
[89.25,1.425]
[89.5,1.4239999999999999]
[89.75,1.4219999999999999]
[90,1.42]
[90.25,1.4179999999999999]
[90.5,1.417]
[90.75,1.415]
[91,1.4139999999999999]
[91.25,1.4119999999999999]
[91.5,1.411]
[91.75,1.409]
[92,1.4079999999999999]
[92.25,1.407]
[92.5,1.405]
[92.75,1.4039999999999999]
[93,1.403]
[93.25,1.401]
[93.5,1.4]
[93.75,1.3979999999999999]
[94,1.397]
[94.25,1.395]
[94.5,1.3939999999999999]
[94.75,1.3919999999999999]
[95,1.391]
[95.25,1.389]
[95.5,1.3879999999999999]
[95.75,1.3859999999999999]
[96,1.385]
[96.25,1.383]
[96.5,1.3819999999999999]
[96.75,1.38]
[97,1.379]
[97.25,1.377]
[97.5,1.3759999999999999]
[97.75,1.375]
[98,1.3740000000000001]
[98.25,1.373]
[98.5,1.371]
[98.75,1.37]
[99,1.3680000000000001]
[99.25,1.3660000000000001]
[99.5,1.365]
[99.75,1.3640000000000001]
[100,1.3620000000000001]
[100.25,1.361]
[100.5,1.36]
[100.75,1.359]
[101,1.359]
[101.25,1.3580000000000001]
[101.5,1.357]
[101.75,1.3560000000000001]
[102,1.355]
[102.25,1.3540000000000001]
[102.5,1.353]
[102.75,1.3520000000000001]
[103,1.351]
[103.25,1.35]
[103.5,1.349]
[103.75,1.3480000000000001]
[104,1.3480000000000001]
[104.25,1.347]
[104.5,1.3460000000000001]
[104.75,1.345]
[105,1.3440000000000001]
[105.25,1.343]
[105.5,1.3420000000000001]
[105.75,1.341]
[106,1.34]
[106.25,1.339]
[106.5,1.3380000000000001]
[106.75,1.3380000000000001]
[107,1.337]
[107.25,1.3360000000000001]
[107.5,1.335]
[107.75,1.3340000000000001]
[108,1.333]
[108.25,1.3320000000000001]
[108.5,1.331]
[108.75,1.331]
[109,1.33]
[109.25,1.329]
[109.5,1.3280000000000001]
[109.75,1.327]
[110,1.3260000000000001]
[110.25,1.325]
[110.5,1.3240000000000001]
[110.75,1.323]
[111,1.323]
[111.25,1.3220000000000001]
[111.5,1.321]
[111.75,1.321]
[112,1.32]
[112.25,1.319]
[112.5,1.319]
[112.75,1.3180000000000001]
[113,1.3180000000000001]
[113.25,1.3169999999999999]
[113.5,1.3169999999999999]
[113.75,1.3160000000000001]
[114,1.3160000000000001]
[114.25,1.3149999999999999]
[114.5,1.3149999999999999]
[114.75,1.3140000000000001]
[115,1.3140000000000001]
[115.25,1.3129999999999999]
[115.5,1.3129999999999999]
[115.75,1.3120000000000001]
[116,1.3120000000000001]
[116.25,1.3109999999999999]
[116.5,1.3109999999999999]
[116.75,1.31]
[117,1.31]
[117.25,1.3089999999999999]
[117.5,1.3089999999999999]
[117.75,1.3089999999999999]
[118,1.3080000000000001]
[118.25,1.3080000000000001]
[118.5,1.3080000000000001]
[118.75,1.3069999999999999]
[119,1.3069999999999999]
[119.25,1.306]
[119.5,1.306]
[119.75,1.3049999999999999]
[999.99,1.306]
[120,1.3049999999999999]
[120.25,1.3049999999999999]
[120.5,1.304]
[120.75,1.304]
[121,1.304]
[121.25,1.3029999999999999]
[121.5,1.3029999999999999]
[121.75,1.3029999999999999]
[122,1.302]
[122.25,1.302]
[122.5,1.302]
[122.75,1.3009999999999999]
[123,1.3009999999999999]
[123.25,1.3009999999999999]
[123.5,1.3009999999999999]
[123.75,1.3]
[124,1.3]
[124.25,1.3]
[124.5,1.2989999999999999]
[124.75,1.2989999999999999]
[125,1.2989999999999999]
[125.25,1.2989999999999999]
[125.5,1.298]
[125.75,1.298]
[126,1.298]
[126.25,1.298]
[126.5,1.2969999999999999]
[126.75,1.2969999999999999]
[127,1.2969999999999999]
[127.25,1.2969999999999999]
[127.5,1.296]
[127.75,1.296]
[128,1.296]
[128.25,1.296]
[128.5,1.2949999999999999]
[128.75,1.2949999999999999]
[129,1.2949999999999999]
[129.25,1.2949999999999999]
[129.5,1.2949999999999999]
[129.75,1.294]
[130,1.294]
[130.25,1.294]
[130.5,1.294]
[130.75,1.2929999999999999]
[131,1.2929999999999999]
[131.25,1.2929999999999999]
[131.5,1.2929999999999999]
[131.75,1.292]
[132,1.292]
[132.25,1.292]
[132.5,1.292]
[132.75,1.292]
[133,1.292]
[133.25,1.2909999999999999]
[133.5,1.2909999999999999]
[133.75,1.2909999999999999]
[134,1.2909999999999999]
[134.25,1.2909999999999999]
[134.5,1.2909999999999999]
[134.75,1.29]
[135,1.29]
[135.25,1.29]
[135.5,1.29]
[135.75,1.29]
[136,1.29]
[136.25,1.2889999999999999]
[136.5,1.2889999999999999]
[136.75,1.2889999999999999]
[137,1.2889999999999999]
[137.25,1.2889999999999999]
[137.5,1.2889999999999999]
[137.75,1.2889999999999999]
[138,1.288]
[138.25,1.288]
[138.5,1.288]
[138.75,1.288]
[139,1.288]
[139.25,1.288]
[139.5,1.288]
[139.75,1.288]
[140,1.2869999999999999]
[140.25,1.2869999999999999]
[140.5,1.2869999999999999]
[140.75,1.2869999999999999]
[141,1.2869999999999999]
[141.25,1.2869999999999999]
[141.5,1.2869999999999999]
[141.75,1.2869999999999999]
[142,1.2869999999999999]
[142.25,1.2869999999999999]
[142.5,1.286]
[142.75,1.286]
[143,1.286]
[143.25,1.286]
[143.5,1.286]
[143.75,1.286]
[144,1.286]
[144.25,1.286]
[144.5,1.286]
[144.75,1.286]
[145,1.286]
[145.25,1.2849999999999999]
[145.5,1.2849999999999999]
[145.75,1.2849999999999999]
[146,1.2849999999999999]
[146.25,1.2849999999999999]
[146.5,1.2849999999999999]
[146.75,1.2849999999999999]
[147,1.2849999999999999]
[147.25,1.2849999999999999]
[147.5,1.2849999999999999]
[147.75,1.2849999999999999]
[148,1.2849999999999999]
[148.25,1.284]
[148.5,1.284]
[148.75,1.284]
[149,1.284]
[149.25,1.284]
[149.5,1.284]
[149.75,1.284]
[150,1.284]
[150.25,1.284]
[150.5,1.284]
[150.75,1.284]

{"sheet":"Classes","index":4,"n_rows":680,"n_cols":6,"rows_kept":680,"cut":false,"hidden":false,"merged":[]}
["Class","AF","WF","BL","Kmax","Stat"]
["Men AAPF Guest",0,1,0,227.5,"A"]
[]
[]
["Men AAPF Novice",0,1,0,227.5,"A"]
["Men AAPF Teen",1,1,1,227.5,"A"]
["Men AAPF Teen 13-15",1,1,1,227.5,"A"]
["Men AAPF Teen 13-15 114 1/2",1,1,1,52,"A"]
["Men AAPF Teen 13-15 123 1/2",1,1,1,56,"A"]
["Men AAPF Teen 13-15 132 1/4",1,1,1,60,"A"]
["Men AAPF Teen 13-15 148 3/4",1,1,1,67.5,"A"]
["Men AAPF Teen 13-15 165 1/4",1,1,1,75,"A"]
["Men AAPF Teen 13-15 181 3/4",1,1,1,82.5,"A"]
["Men AAPF Teen 13-15 198 1/4",1,1,1,90,"A"]
["Men AAPF Teen 13-15 220 1/4",1,1,1,100,"A"]
["Men AAPF Teen 13-15 242 1/2",1,1,1,110,"A"]
["Men AAPF Teen 13-15 275 1/4",1,1,1,125,"A"]
["Men AAPF Teen 13-15 308",1,1,1,140,"A"]
["Men AAPF Teen 13-15 SHW",1,1,1,227.5,"A"]
["Men AAPF Teen 16-17",1,1,1,227.5,"A"]
["Men AAPF Teen 16-17 114 1/2",1,1,1,52,"A"]
["Men AAPF Teen 16-17 123 1/2",1,1,1,56,"A"]
["Men AAPF Teen 16-17 132 1/4",1,1,1,60,"A"]
["Men AAPF Teen 16-17 148 3/4",1,1,1,67.5,"A"]
["Men AAPF Teen 16-17 165 1/4",1,1,1,75,"A"]
["Men AAPF Teen 16-17 181 3/4",1,1,1,82.5,"A"]
["Men AAPF Teen 16-17 198 1/4",1,1,1,90,"A"]
["Men AAPF Teen 16-17 220 1/4",1,1,1,100,"A"]
["Men AAPF Teen 16-17 242 1/2",1,1,1,110,"A"]
["Men AAPF Teen 16-17 275 1/4",1,1,1,125,"A"]
["Men AAPF Teen 16-17 308",1,1,1,140,"A"]
["Men AAPF Teen 16-17 SHW",1,1,1,227.5,"A"]
["Men AAPF Teen 18-19",1,1,1,227.5,"A"]
["Men AAPF Teen 18-19 114 1/2",1,1,1,52,"A"]
["Men AAPF Teen 18-19 123 1/2",1,1,1,56,"A"]
["Men AAPF Teen 18-19 132 1/4",1,1,1,60,"A"]
["Men AAPF Teen 18-19 148 3/4",1,1,1,67.5,"A"]
["Men AAPF Teen 18-19 165 1/4",1,1,1,75,"A"]
["Men AAPF Teen 18-19 181 3/4",1,1,1,82.5,"A"]
["Men AAPF Teen 18-19 198 1/4",1,1,1,90,"A"]
["Men AAPF Teen 18-19 220 1/4",1,1,1,100,"A"]
["Men AAPF Teen 18-19 242 1/2",1,1,1,110,"A"]
["Men AAPF Teen 18-19 275 1/4",1,1,1,125,"A"]
["Men AAPF Teen 18-19 308",1,1,1,140,"A"]
["Men AAPF Teen 18-19 SHW",1,1,1,227.5,"A"]
["Men AAPF JR",1,1,1,227.5,"A"]
["Men AAPF JR 114 1/2",1,1,1,52,"A"]
["Men AAPF JR 123 1/2",1,1,1,56,"A"]
["Men AAPF JR 132 1/4",1,1,1,60,"A"]
["Men AAPF JR 148 3/4",1,1,1,67.5,"A"]
["Men AAPF JR 165 1/4",1,1,1,75,"A"]
["Men AAPF JR 181 3/4",1,1,1,82.5,"A"]
["Men AAPF JR 198 1/4",1,1,1,90,"A"]
["Men AAPF JR 220 1/4",1,1,1,100,"A"]
["Men AAPF JR 242 1/2",1,1,1,110,"A"]
["Men AAPF JR 275 1/4",1,1,1,125,"A"]
["Men AAPF JR 308",1,1,1,140,"A"]
["Men AAPF JR SHW",1,1,1,227.5,"A"]
["Men AAPF",0,1,1,227.5,"A"]
["Men AAPF 114 1/2",0,1,1,52,"A"]
["Men AAPF 123 1/2",0,1,1,56,"A"]
["Men AAPF 132 1/4",0,1,1,60,"A"]
["Men AAPF 148 3/4",0,1,1,67.5,"A"]
["Men AAPF 165 1/4",0,1,1,75,"A"]
["Men AAPF 181 3/4",0,1,1,82.5,"A"]
["Men AAPF 198 1/4",0,1,1,90,"A"]
["Men AAPF 220 1/4",0,1,1,100,"A"]
["Men AAPF 242 1/2",0,1,1,110,"A"]
["Men AAPF 275 1/4",0,1,1,125,"A"]
["Men AAPF 308",0,1,1,140,"A"]
["Men AAPF SHW",0,1,1,227.5,"A"]
["Men AAPF SubMaster",0,0,1,227.5,"A"]
["Men AAPF SubMaster 114 1/2",0,0,1,52,"A"]
["Men AAPF SubMaster 123 1/2",0,0,1,56,"A"]
["Men AAPF SubMaster 132 1/4",0,0,1,60,"A"]
["Men AAPF SubMaster 148 3/4",0,0,1,67.5,"A"]
["Men AAPF SubMaster 165 1/4",0,0,1,75,"A"]
["Men AAPF SubMaster 181 3/4",0,0,1,82.5,"A"]
["Men AAPF SubMaster 198 1/4",0,0,1,90,"A"]
["Men AAPF SubMaster 220 1/4",0,0,1,100,"A"]
["Men AAPF SubMaster 242 1/2",0,0,1,110,"A"]
["Men AAPF SubMaster 275 1/4",0,0,1,125,"A"]
["Men AAPF SubMaster 308",0,0,1,140,"A"]
["Men AAPF SubMaster SHW",0,0,1,227.5,"A"]
["Men AAPF Master",1,1,1,227.5,"A"]
["Men AAPF Master (40-49)",1,1,1,227.5,"A"]
["Men AAPF Master (50+)",1,1,1,227.5,"A"]
["Men AAPF Master 40-44",1,1,1,227.5,"A"]
["Men AAPF Master 40-44 114 1/2",1,1,1,52,"A"]
["Men AAPF Master 40-44 123 1/2",1,1,1,56,"A"]
["Men AAPF Master 40-44 132 1/4",1,1,1,60,"A"]
["Men AAPF Master 40-44 148 3/4",1,1,1,67.5,"A"]
["Men AAPF Master 40-44 165 1/4",1,1,1,75,"A"]
["Men AAPF Master 40-44 181 3/4",1,1,1,82.5,"A"]
["Men AAPF Master 40-44 198 1/4",1,1,1,90,"A"]
["Men AAPF Master 40-44 220 1/4",1,1,1,100,"A"]
["Men AAPF Master 40-44 242 1/2",1,1,1,110,"A"]
["Men AAPF Master 40-44 275 1/4",1,1,1,125,"A"]
["Men AAPF Master 40-44 308",1,1,1,140,"A"]
["Men AAPF Master 40-44 SHW",1,1,1,227.5,"A"]
["Men AAPF Master 45-49",1,1,1,227.5,"A"]
["Men AAPF Master 45-49 114 1/2",1,1,1,52,"A"]
["Men AAPF Master 45-49 123 1/2",1,1,1,56,"A"]
["Men AAPF Master 45-49 132 1/4",1,1,1,60,"A"]
["Men AAPF Master 45-49 148 3/4",1,1,1,67.5,"A"]
["Men AAPF Master 45-49 165 1/4",1,1,1,75,"A"]
["Men AAPF Master 45-49 181 3/4",1,1,1,82.5,"A"]
["Men AAPF Master 45-49 198 1/4",1,1,1,90,"A"]
["Men AAPF Master 45-49 220 1/4",1,1,1,100,"A"]
["Men AAPF Master 45-49 242 1/2",1,1,1,110,"A"]
["Men AAPF Master 45-49 275 1/4",1,1,1,125,"A"]
["Men AAPF Master 45-49 308",1,1,1,140,"A"]
["Men AAPF Master 45-49 SHW",1,1,1,227.5,"A"]
["Men AAPF Master 50-54",1,1,1,227.5,"A"]
["Men AAPF Master 50-54 114 1/2",1,1,1,52,"A"]
["Men AAPF Master 50-54 123 1/2",1,1,1,56,"A"]
["Men AAPF Master 50-54 132 1/4",1,1,1,60,"A"]
["Men AAPF Master 50-54 148 3/4",1,1,1,67.5,"A"]
["Men AAPF Master 50-54 165 1/4",1,1,1,75,"A"]
["Men AAPF Master 50-54 181 3/4",1,1,1,82.5,"A"]
["Men AAPF Master 50-54 198 1/4",1,1,1,90,"A"]
["Men AAPF Master 50-54 220 1/4",1,1,1,100,"A"]
["Men AAPF Master 50-54 242 1/2",1,1,1,110,"A"]
["Men AAPF Master 50-54 275 1/4",1,1,1,125,"A"]
["Men AAPF Master 50-54 308",1,1,1,140,"A"]
["Men AAPF Master 50-54 SHW",1,1,1,227.5,"A"]
["Men AAPF Master 55-59",1,1,1,227.5,"A"]
["Men AAPF Master 55-59 114 1/2",1,1,1,52,"A"]
["Men AAPF Master 55-59 123 1/2",1,1,1,56,"A"]
["Men AAPF Master 55-59 132 1/4",1,1,1,60,"A"]
["Men AAPF Master 55-59 148 3/4",1,1,1,67.5,"A"]
["Men AAPF Master 55-59 165 1/4",1,1,1,75,"A"]
["Men AAPF Master 55-59 181 3/4",1,1,1,82.5,"A"]
["Men AAPF Master 55-59 198 1/4",1,1,1,90,"A"]
["Men AAPF Master 55-59 220 1/4",1,1,1,100,"A"]
["Men AAPF Master 55-59 242 1/2",1,1,1,110,"A"]
["Men AAPF Master 55-59 275 1/4",1,1,1,125,"A"]
["Men AAPF Master 55-59 308",1,1,1,140,"A"]
["Men AAPF Master 55-59 SHW",1,1,1,227.5,"A"]
["Men AAPF Master 60-64",1,1,1,227.5,"A"]
["Men AAPF Master 60-64 114 1/2",1,1,1,52,"A"]
["Men AAPF Master 60-64 123 1/2",1,1,1,56,"A"]
["Men AAPF Master 60-64 132 1/4",1,1,1,60,"A"]
["Men AAPF Master 60-64 148 3/4",1,1,1,67.5,"A"]
["Men AAPF Master 60-64 165 1/4",1,1,1,75,"A"]
["Men AAPF Master 60-64 181 3/4",1,1,1,82.5,"A"]
["Men AAPF Master 60-64 198 1/4",1,1,1,90,"A"]
["Men AAPF Master 60-64 220 1/4",1,1,1,100,"A"]
["Men AAPF Master 60-64 242 1/2",1,1,1,110,"A"]
["Men AAPF Master 60-64 275 1/4",1,1,1,125,"A"]
["Men AAPF Master 60-64 308",1,1,1,140,"A"]
["Men AAPF Master 60-64 SHW",1,1,1,227.5,"A"]
["Men AAPF Master 65-69",1,1,1,227.5,"A"]
["Men AAPF Master 65-69 114 1/2",1,1,1,52,"A"]
["Men AAPF Master 65-69 123 1/2",1,1,1,56,"A"]
["Men AAPF Master 65-69 132 1/4",1,1,1,60,"A"]
["Men AAPF Master 65-69 148 3/4",1,1,1,67.5,"A"]
["Men AAPF Master 65-69 165 1/4",1,1,1,75,"A"]
["Men AAPF Master 65-69 181 3/4",1,1,1,82.5,"A"]
["Men AAPF Master 65-69 198 1/4",1,1,1,90,"A"]
["Men AAPF Master 65-69 220 1/4",1,1,1,100,"A"]
["Men AAPF Master 65-69 242 1/2",1,1,1,110,"A"]
["Men AAPF Master 65-69 275 1/4",1,1,1,125,"A"]
["Men AAPF Master 65-69 308",1,1,1,140,"A"]
["Men AAPF Master 65-69 SHW",1,1,1,227.5,"A"]
["Men AAPF Master 70-74",1,1,1,227.5,"A"]
["Men AAPF Master 70-74 114 1/2",1,1,1,52,"A"]
["Men AAPF Master 70-74 123 1/2",1,1,1,56,"A"]
["Men AAPF Master 70-74 132 1/4",1,1,1,60,"A"]
["Men AAPF Master 70-74 148 3/4",1,1,1,67.5,"A"]
["Men AAPF Master 70-74 165 1/4",1,1,1,75,"A"]
["Men AAPF Master 70-74 181 3/4",1,1,1,82.5,"A"]
["Men AAPF Master 70-74 198 1/4",1,1,1,90,"A"]
["Men AAPF Master 70-74 220 1/4",1,1,1,100,"A"]
["Men AAPF Master 70-74 242 1/2",1,1,1,110,"A"]
["Men AAPF Master 70-74 275 1/4",1,1,1,125,"A"]
["Men AAPF Master 70-74 308",1,1,1,140,"A"]
["Men AAPF Master 70-74 SHW",1,1,1,227.5,"A"]
["Men AAPF Master 75-79",1,1,1,227.5,"A"]
["Men AAPF Master 75-79 114 1/2",1,1,1,52,"A"]
["Men AAPF Master 75-79 123 1/2",1,1,1,56,"A"]
["Men AAPF Master 75-79 132 1/4",1,1,1,60,"A"]
["Men AAPF Master 75-79 148 3/4",1,1,1,67.5,"A"]
["Men AAPF Master 75-79 165 1/4",1,1,1,75,"A"]
["Men AAPF Master 75-79 181 3/4",1,1,1,82.5,"A"]
["Men AAPF Master 75-79 198 1/4",1,1,1,90,"A"]
["Men AAPF Master 75-79 220 1/4",1,1,1,100,"A"]
["Men AAPF Master 75-79 242 1/2",1,1,1,110,"A"]
["Men AAPF Master 75-79 275 1/4",1,1,1,125,"A"]
["Men AAPF Master 75-79 308",1,1,1,140,"A"]
["Men AAPF Master 75-79 SHW",1,1,1,227.5,"A"]
["Men AAPF Master 80-84",1,1,1,227.5,"A"]
["Men AAPF Master 80-84 114 1/2",1,1,1,52,"A"]
["Men AAPF Master 80-84 123 1/2",1,1,1,56,"A"]
["Men AAPF Master 80-84 132 1/4",1,1,1,60,"A"]
["Men AAPF Master 80-84 148 3/4",1,1,1,67.5,"A"]
["Men AAPF Master 80-84 165 1/4",1,1,1,75,"A"]
["Men AAPF Master 80-84 181 3/4",1,1,1,82.5,"A"]
["Men AAPF Master 80-84 198 1/4",1,1,1,90,"A"]
["Men AAPF Master 80-84 220 1/4",1,1,1,100,"A"]
["Men AAPF Master 80-84 242 1/2",1,1,1,110,"A"]
["Men AAPF Master 80-84 275 1/4",1,1,1,125,"A"]
["Men AAPF Master 80-84 308",1,1,1,140,"A"]
["Men AAPF Master 80-84 SHW",1,1,1,227.5,"A"]
["Men Guest",0,1,0,227.5,"A"]
["Men Novice",0,1,0,227.5,"A"]
["Men Teen",1,1,1,227.5,"A"]
["Men Teen 13-15",1,1,1,227.5,"A"]
["Men Teen 13-15 114 1/2",1,1,1,52,"A"]
["Men Teen 13-15 123 1/2",1,1,1,56,"A"]
["Men Teen 13-15 132 1/4",1,1,1,60,"A"]
["Men Teen 13-15 148 3/4",1,1,1,67.5,"A"]
["Men Teen 13-15 165 1/4",1,1,1,75,"A"]
["Men Teen 13-15 181 3/4",1,1,1,82.5,"A"]
["Men Teen 13-15 198 1/4",1,1,1,90,"A"]
["Men Teen 13-15 220 1/4",1,1,1,100,"A"]
["Men Teen 13-15 242 1/2",1,1,1,110,"A"]
["Men Teen 13-15 275 1/4",1,1,1,125,"A"]
["Men Teen 13-15 308",1,1,1,140,"A"]
["Men Teen 13-15 SHW",1,1,1,227.5,"A"]
["Men Teen 16-17",1,1,1,227.5,"A"]
["Men Teen 16-17 114 1/2",1,1,1,52,"A"]
["Men Teen 16-17 123 1/2",1,1,1,56,"A"]
["Men Teen 16-17 132 1/4",1,1,1,60,"A"]
["Men Teen 16-17 148 3/4",1,1,1,67.5,"A"]
["Men Teen 16-17 165 1/4",1,1,1,75,"A"]
["Men Teen 16-17 181 3/4",1,1,1,82.5,"A"]
["Men Teen 16-17 198 1/4",1,1,1,90,"A"]
["Men Teen 16-17 220 1/4",1,1,1,100,"A"]
["Men Teen 16-17 242 1/2",1,1,1,110,"A"]
["Men Teen 16-17 275 1/4",1,1,1,125,"A"]
["Men Teen 16-17 308",1,1,1,140,"A"]
["Men Teen 16-17 SHW",1,1,1,227.5,"A"]
["Men Teen 18-19",1,1,1,227.5,"A"]
["Men Teen 18-19 114 1/2",1,1,1,52,"A"]
["Men Teen 18-19 123 1/2",1,1,1,56,"A"]
["Men Teen 18-19 132 1/4",1,1,1,60,"A"]
["Men Teen 18-19 148 3/4",1,1,1,67.5,"A"]
["Men Teen 18-19 165 1/4",1,1,1,75,"A"]
["Men Teen 18-19 181 3/4",1,1,1,82.5,"A"]
["Men Teen 18-19 198 1/4",1,1,1,90,"A"]
["Men Teen 18-19 220 1/4",1,1,1,100,"A"]
["Men Teen 18-19 242 1/2",1,1,1,110,"A"]
["Men Teen 18-19 275 1/4",1,1,1,125,"A"]
["Men Teen 18-19 308",1,1,1,140,"A"]
["Men Teen 18-19 SHW",1,1,1,227.5,"A"]
["Men JR",1,1,1,227.5,"A"]
["Men JR 114 1/2",1,1,1,52,"A"]
["Men JR 123 1/2",1,1,1,56,"A"]
["Men JR 132 1/4",1,1,1,60,"A"]
["Men JR 148 3/4",1,1,1,67.5,"A"]
["Men JR 165 1/4",1,1,1,75,"A"]
["Men JR 181 3/4",1,1,1,82.5,"A"]
["Men JR 198 1/4",1,1,1,90,"A"]
["Men JR 220 1/4",1,1,1,100,"A"]
["Men JR 242 1/2",1,1,1,110,"A"]
["Men JR 275 1/4",1,1,1,125,"A"]
["Men JR 308",1,1,1,140,"A"]
["Men JR SHW",1,1,1,227.5,"A"]
["Men Open",0,0,1,227.5,"A"]
["Men Open 114 1/2",0,0,1,52,"A"]
["Men Open 123 1/2",0,0,1,56,"A"]
["Men Open 132 1/4",0,0,1,60,"A"]
["Men Open 148 3/4",0,0,1,67.5,"A"]
["Men Open 165 1/4",0,0,1,75,"A"]
["Men Open 181 1/4",0,0,1,82.5,"A"]
["Men Open 198 1/4",0,0,1,90,"A"]
["Men Open 220 1/4",0,0,1,100,"A"]
["Men Open 242 1/2",0,0,1,110,"A"]
["Men Open 275 1/4",0,0,1,125,"A"]
["Men Open 308",0,0,1,140,"A"]
["Men Open SHW",0,0,1,227.5,"A"]
["Men SubMaster",0,0,1,227.5,"A"]
["Men SubMaster 114 1/2",0,0,1,52,"A"]
["Men SubMaster 123 1/2",0,0,1,56,"A"]
["Men SubMaster 132 1/4",0,0,1,60,"A"]
["Men SubMaster 148 3/4",0,0,1,67.5,"A"]
["Men SubMaster 165 1/4",0,0,1,75,"A"]
["Men SubMaster 181 3/4",0,0,1,82.5,"A"]
["Men SubMaster 198 1/4",0,0,1,90,"A"]
["Men SubMaster 220 1/4",0,0,1,100,"A"]
["Men SubMaster 242 1/2",0,0,1,110,"A"]
["Men SubMaster 275 1/4",0,0,1,125,"A"]
["Men SubMaster 308",0,0,1,140,"A"]
["Men SubMaster SHW",0,0,1,227.5,"A"]
["Men Master",1,1,1,227.5,"A"]
["Men Master (40-49)",1,1,1,227.5,"A"]
["Men Master (50+)",1,1,1,227.5,"A"]
["Men Master 40-44",1,1,1,227.5,"A"]
["Men Master 40-44 114 1/2",1,1,1,52,"A"]
["Men Master 40-44 123 1/2",1,1,1,56,"A"]
["Men Master 40-44 132 1/4",1,1,1,60,"A"]
["Men Master 40-44 148 3/4",1,1,1,67.5,"A"]
["Men Master 40-44 165 1/4",1,1,1,75,"A"]
["Men Master 40-44 181 3/4",1,1,1,82.5,"A"]
["Men Master 40-44 198 1/4",1,1,1,90,"A"]
["Men Master 40-44 220 1/4",1,1,1,100,"A"]
["Men Master 40-44 242 1/2",1,1,1,110,"A"]
["Men Master 40-44 275 1/4",1,1,1,125,"A"]
["Men Master 40-44 308",1,1,1,140,"A"]
["Men Master 40-44 SHW",1,1,1,227.5,"A"]
["Men Master 45-49",1,1,1,227.5,"A"]
["Men Master 45-49 114 1/2",1,1,1,52,"A"]
["Men Master 45-49 123 1/2",1,1,1,56,"A"]
["Men Master 45-49 132 1/4",1,1,1,60,"A"]
["Men Master 45-49 148 3/4",1,1,1,67.5,"A"]
["Men Master 45-49 165 1/4",1,1,1,75,"A"]
["Men Master 45-49 181 3/4",1,1,1,82.5,"A"]
["Men Master 45-49 198 1/4",1,1,1,90,"A"]
["Men Master 45-49 220 1/4",1,1,1,100,"A"]
["Men Master 45-49 242 1/2",1,1,1,110,"A"]
["Men Master 45-49 275 1/4",1,1,1,125,"A"]
["Men Master 45-49 308",1,1,1,140,"A"]
["Men Master 45-49 SHW",1,1,1,227.5,"A"]
["Men Master 50-54",1,1,1,227.5,"A"]
["Men Master 50-54 114 1/2",1,1,1,52,"A"]
["Men Master 50-54 123 1/2",1,1,1,56,"A"]
["Men Master 50-54 132 1/4",1,1,1,60,"A"]
["Men Master 50-54 148 3/4",1,1,1,67.5,"A"]
["Men Master 50-54 165 1/4",1,1,1,75,"A"]
["Men Master 50-54 181 3/4",1,1,1,82.5,"A"]
["Men Master 50-54 198 1/4",1,1,1,90,"A"]
["Men Master 50-54 220 1/4",1,1,1,100,"A"]
["Men Master 50-54 242 1/2",1,1,1,110,"A"]
["Men Master 50-54 275 1/4",1,1,1,125,"A"]
["Men Master 50-54 308",1,1,1,140,"A"]
["Men Master 50-54 SHW",1,1,1,227.5,"A"]
["Men Master 55-59",1,1,1,227.5,"A"]
["Men Master 55-59 114 1/2",1,1,1,52,"A"]
["Men Master 55-59 123 1/2",1,1,1,56,"A"]
["Men Master 55-59 132 1/4",1,1,1,60,"A"]
["Men Master 55-59 148 3/4",1,1,1,67.5,"A"]
["Men Master 55-59 165 1/4",1,1,1,75,"A"]
["Men Master 55-59 181 3/4",1,1,1,82.5,"A"]
["Men Master 55-59 198 1/4",1,1,1,90,"A"]
["Men Master 55-59 220 1/4",1,1,1,100,"A"]
["Men Master 55-59 242 1/2",1,1,1,110,"A"]
["Men Master 55-59 275 1/4",1,1,1,125,"A"]
["Men Master 55-59 308",1,1,1,140,"A"]
["Men Master 55-59 SHW",1,1,1,227.5,"A"]
["Men Master 60-64",1,1,1,227.5,"A"]
["Men Master 60-64 114 1/2",1,1,1,52,"A"]
["Men Master 60-64 123 1/2",1,1,1,56,"A"]
["Men Master 60-64 132 1/4",1,1,1,60,"A"]
["Men Master 60-64 148 3/4",1,1,1,67.5,"A"]
["Men Master 60-64 165 1/4",1,1,1,75,"A"]
["Men Master 60-64 181 3/4",1,1,1,82.5,"A"]
["Men Master 60-64 198 1/4",1,1,1,90,"A"]
["Men Master 60-64 220 1/4",1,1,1,100,"A"]
["Men Master 60-64 242 1/2",1,1,1,110,"A"]
["Men Master 60-64 275 1/4",1,1,1,125,"A"]
["Men Master 60-64 308",1,1,1,140,"A"]
["Men Master 60-64 SHW",1,1,1,227.5,"A"]
["Men Master 65-69",1,1,1,227.5,"A"]
["Men Master 65-69 114 1/2",1,1,1,52,"A"]
["Men Master 65-69 123 1/2",1,1,1,56,"A"]
["Men Master 65-69 132 1/4",1,1,1,60,"A"]
["Men Master 65-69 148 3/4",1,1,1,67.5,"A"]
["Men Master 65-69 165 1/4",1,1,1,75,"A"]
["Men Master 65-69 181 3/4",1,1,1,82.5,"A"]
["Men Master 65-69 198 1/4",1,1,1,90,"A"]
["Men Master 65-69 220 1/4",1,1,1,100,"A"]
["Men Master 65-69 242 1/2",1,1,1,110,"A"]
["Men Master 65-69 275 1/4",1,1,1,125,"A"]
["Men Master 65-69 308",1,1,1,140,"A"]
["Men Master 65-69 SHW",1,1,1,227.5,"A"]
["Men Master 70-74",1,1,1,227.5,"A"]
["Men Master 70-74 114 1/2",1,1,1,52,"A"]
["Men Master 70-74 123 1/2",1,1,1,56,"A"]
["Men Master 70-74 132 1/4",1,1,1,60,"A"]
["Men Master 70-74 148 3/4",1,1,1,67.5,"A"]
["Men Master 70-74 165 1/4",1,1,1,75,"A"]
["Men Master 70-74 181 3/4",1,1,1,82.5,"A"]
["Men Master 70-74 198 1/4",1,1,1,90,"A"]
["Men Master 70-74 220 1/4",1,1,1,100,"A"]
["Men Master 70-74 242 1/2",1,1,1,110,"A"]
["Men Master 70-74 275 1/4",1,1,1,125,"A"]
["Men Master 70-74 308",1,1,1,140,"A"]
["Men Master 70-74 SHW",1,1,1,227.5,"A"]
["Men Master 75-79",1,1,1,227.5,"A"]
["Men Master 75-79 114 1/2",1,1,1,52,"A"]
["Men Master 75-79 123 1/2",1,1,1,56,"A"]
["Men Master 75-79 132 1/4",1,1,1,60,"A"]
["Men Master 75-79 148 3/4",1,1,1,67.5,"A"]
["Men Master 75-79 165 1/4",1,1,1,75,"A"]
["Men Master 75-79 181 3/4",1,1,1,82.5,"A"]
["Men Master 75-79 198 1/4",1,1,1,90,"A"]
["Men Master 75-79 220 1/4",1,1,1,100,"A"]
["Men Master 75-79 242 1/2",1,1,1,110,"A"]
["Men Master 75-79 275 1/4",1,1,1,125,"A"]
["Men Master 75-79 308",1,1,1,140,"A"]
["Men Master 75-79 SHW",1,1,1,227.5,"A"]
["Men Master 80-84",1,1,1,227.5,"A"]
["Men Master 80-84 114 1/2",1,1,1,52,"A"]
["Men Master 80-84 123 1/2",1,1,1,56,"A"]
["Men Master 80-84 132 1/4",1,1,1,60,"A"]
["Men Master 80-84 148 3/4",1,1,1,67.5,"A"]
["Men Master 80-84 165 1/4",1,1,1,75,"A"]
["Men Master 80-84 181 3/4",1,1,1,82.5,"A"]
["Men Master 80-84 198 1/4",1,1,1,90,"A"]
["Men Master 80-84 220 1/4",1,1,1,100,"A"]
["Men Master 80-84 242 1/2",1,1,1,110,"A"]
["Men Master 80-84 275 1/4",1,1,1,125,"A"]
["Men Master 80-84 308",1,1,1,140,"A"]
["Men Master 80-84 SHW",1,1,1,227.5,"A"]
["Women AAPF Guest",0,1,0,137.5,"A"]
["Women AAPF Novice",0,1,0,137.5,"A"]
["Women AAPF Teen",1,1,1,137.5,"A"]
["Women AAPF Teen 13-15",1,1,1,137.5,"A"]
["Women AAPF Teen 13-15 097",1,1,1,44,"A"]
["Women AAPF Teen 13-15 105 3/4",1,1,1,48,"A"]
[]
["Women AAPF Teen 13-15 114 1/2",1,1,1,52,"A"]
["Women AAPF Teen 13-15 123 1/2",1,1,1,56,"A"]
["Women AAPF Teen 13-15 132 1/4",1,1,1,60,"A"]
["Women AAPF Teen 13-15 148 3/4",1,1,1,67.5,"A"]
["Women AAPF Teen 13-15 165 1/4",1,1,1,75,"A"]
["Women AAPF Teen 13-15 181 3/4",1,1,1,82.5,"A"]
["Women AAPF Teen 13-15 198 1/4",1,1,1,90,"A"]
["Women AAPF Teen 16-17",1,1,1,137.5,"A"]
["Women AAPF Teen 16-17 097",1,1,1,44,"A"]
["Women AAPF Teen 16-17 105 3/4",1,1,1,48,"A"]
["Women AAPF Teen 16-17 114 1/2",1,1,1,52,"A"]
["Women AAPF Teen 16-17 123 1/2",1,1,1,56,"A"]
["Women AAPF Teen 16-17 132 1/4",1,1,1,60,"A"]
["Women AAPF Teen 16-17 148 3/4",1,1,1,67.5,"A"]
["Women AAPF Teen 16-17 165 1/4",1,1,1,75,"A"]
["Women AAPF Teen 16-17 181 3/4",1,1,1,82.5,"A"]
["Women AAPF Teen 16-17 198 1/4",1,1,1,90,"A"]
["Women AAPF Teen 18-19",1,1,1,137.5,"A"]
["Women AAPF Teen 18-19 097",1,1,1,44,"A"]
["Women AAPF Teen 18-19 105 3/4",1,1,1,48,"A"]
["Women AAPF Teen 18-19 114 1/2",1,1,1,52,"A"]
["Women AAPF Teen 18-19 123 1/2",1,1,1,56,"A"]
["Women AAPF Teen 18-19 132 1/4",1,1,1,60,"A"]
["Women AAPF Teen 18-19 148 3/4",1,1,1,67.5,"A"]
["Women AAPF Teen 18-19 165 1/4",1,1,1,75,"A"]
["Women AAPF Teen 18-19 181 3/4",1,1,1,82.5,"A"]
["Women AAPF Teen 18-19 198 1/4",1,1,1,90,"A"]
["Women AAPF JR",1,1,1,137.5,"A"]
["Women AAPF JR 097",1,1,1,44,"A"]
["Women AAPF JR 105 3/4",1,1,1,48,"A"]
["Women AAPF JR 114 1/2",1,1,1,52,"A"]
["Women AAPF JR 123 1/2",1,1,1,56,"A"]
["Women AAPF JR 132 1/4",1,1,1,60,"A"]
["Women AAPF JR 148 3/4",1,1,1,67.5,"A"]
["Women AAPF JR 165 1/4",1,1,1,75,"A"]
["Women AAPF JR 181 3/4",1,1,1,82.5,"A"]
["Women AAPF JR 198 1/4",1,1,1,90,"A"]
["Women AAPF",0,1,1,137.5,"A"]
["Women AAPF 097",0,1,1,44,"A"]
["Women AAPF 105 3/4",0,1,1,48,"A"]
["Women AAPF 114 1/2",0,1,1,52,"A"]
["Women AAPF 123 1/2",0,1,1,56,"A"]
["Women AAPF 132 1/4",0,1,1,60,"A"]
["Women AAPF 148 3/4",0,1,1,67.5,"A"]
["Women AAPF 165 1/4",0,1,1,75,"A"]
["Women AAPF 181 3/4",0,1,1,82.5,"A"]
["Women AAPF 198 1/4",0,1,1,90,"A"]
["Women AAPF SHW",0,1,1,137.5,"A"]
["Women AAPF SubMstr",0,0,1,137.5,"I"]
["Women AAPF SubMstr 097",0,0,1,44,"A"]
["Women AAPF SubMstr 105-3/4",0,0,1,48,"A"]
["Women AAPF SubMstr 114-1/2",0,0,1,52,"A"]
["Women AAPF SubMstr 123-1/2",0,0,1,56,"A"]
["Women AAPF SubMstr 132-1/4",0,0,1,60,"A"]
["Women AAPF SubMstr 148-3/4",0,0,1,67.5,"A"]
["Women AAPF SubMstr 165-1/4",0,0,1,75,"A"]
["Women AAPF SubMstr 181-3/4",0,0,1,82.5,"A"]
["Women AAPF SubMstr 198-1/4",0,0,1,90,"A"]
["Women AAPF Master",1,1,1,137.5,"A"]
["Women AAPF Master (40-49)",1,1,1,137.5,"A"]
["Women AAPF Master (50+)",1,1,1,137.5,"A"]
["Women AAPF Master 40-44",1,1,1,137.5,"A"]
["Women AAPF Master 40-44 097",1,1,1,44,"A"]
["Women AAPF Master 40-44 105 3/4",1,1,1,48,"A"]
["Women AAPF Master 40-44 114 1/2",1,1,1,52,"A"]
["Women AAPF Master 40-44 123 1/2",1,1,1,56,"A"]
["Women AAPF Master 40-44 132 1/4",1,1,1,60,"A"]
["Women AAPF Master 40-44 148 3/4",1,1,1,67.5,"A"]
["Women AAPF Master 40-44 165 1/4",1,1,1,75,"A"]
["Women AAPF Master 40-44 181 3/4",1,1,1,82.5,"A"]
["Women AAPF Master 40-44 198 1/4",1,1,1,90,"A"]
["Women AAPF Master 45-49",1,1,1,137.5,"A"]
["Women AAPF Master 45-49 097",1,1,1,44,"A"]
["Women AAPF Master 45-49 105 3/4",1,1,1,48,"A"]
["Women AAPF Master 45-49 114 1/2",1,1,1,52,"A"]
["Women AAPF Master 45-49 123 1/2",1,1,1,56,"A"]
["Women AAPF Master 45-49 132 1/4",1,1,1,60,"A"]
["Women AAPF Master 45-49 148 3/4",1,1,1,67.5,"A"]
["Women AAPF Master 45-49 165 1/4",1,1,1,75,"A"]
["Women AAPF Master 45-49 181 3/4",1,1,1,82.5,"A"]
["Women AAPF Master 45-49 198 1/4",1,1,1,90,"A"]
["Women AAPF Master 50-54",1,1,1,137.5,"A"]
["Women AAPF Master 50-54 097",1,1,1,44,"A"]
["Women AAPF Master 50-54 105 3/4",1,1,1,48,"A"]
["Women AAPF Master 50-54 114 1/2",1,1,1,52,"A"]
["Women AAPF Master 50-54 123 1/2",1,1,1,56,"A"]
["Women AAPF Master 50-54 132 1/4",1,1,1,60,"A"]
["Women AAPF Master 50-54 148 3/4",1,1,1,67.5,"A"]
["Women AAPF Master 50-54 165 1/4",1,1,1,75,"A"]
["Women AAPF Master 50-54 181 3/4",1,1,1,82.5,"A"]
["Women AAPF Master 50-54 198 1/4",1,1,1,90,"A"]
["Women AAPF Master 55-59",1,1,1,137.5,"A"]
["Women AAPF Master 55-59 097",1,1,1,44,"A"]
["Women AAPF Master 55-59 105 3/4",1,1,1,48,"A"]
["Women AAPF Master 55-59 114 1/2",1,1,1,52,"A"]
["Women AAPF Master 55-59 123 1/2",1,1,1,56,"A"]
["Women AAPF Master 55-59 132 1/4",1,1,1,60,"A"]
["Women AAPF Master 55-59 148 3/4",1,1,1,67.5,"A"]
["Women AAPF Master 55-59 165 1/4",1,1,1,75,"A"]
["Women AAPF Master 55-59 181 3/4",1,1,1,82.5,"A"]
["Women AAPF Master 55-59 198 1/4",1,1,1,90,"A"]
["Women AAPF Master 60-64",1,1,1,137.5,"A"]
["Women AAPF Master 60-64 097",1,1,1,44,"A"]
["Women AAPF Master 60-64 105 3/4",1,1,1,48,"A"]
["Women AAPF Master 60-64 114 1/2",1,1,1,52,"A"]
["Women AAPF Master 60-64 123 1/2",1,1,1,56,"A"]
["Women AAPF Master 60-64 132 1/4",1,1,1,60,"A"]
["Women AAPF Master 60-64 148 3/4",1,1,1,67.5,"A"]
["Women AAPF Master 60-64 165 1/4",1,1,1,75,"A"]
["Women AAPF Master 60-64 181 3/4",1,1,1,82.5,"A"]
["Women AAPF Master 60-64 198 1/4",1,1,1,90,"A"]
["Women AAPF Master 65-69",1,1,1,137.5,"A"]
["Women AAPF Master 65-69 097",1,1,1,44,"A"]
["Women AAPF Master 65-69 105 3/4",1,1,1,48,"A"]
["Women AAPF Master 65-69 114 1/2",1,1,1,52,"A"]
["Women AAPF Master 65-69 123 1/2",1,1,1,56,"A"]
["Women AAPF Master 65-69 132 1/4",1,1,1,60,"A"]
["Women AAPF Master 65-69 148 3/4",1,1,1,67.5,"A"]
["Women AAPF Master 65-69 165 1/4",1,1,1,75,"A"]
["Women AAPF Master 65-69 181 3/4",1,1,1,82.5,"A"]
["Women AAPF Master 65-69 198 1/4",1,1,1,90,"A"]
["Women AAPF Master 70-74",1,1,1,137.5,"A"]
["Women AAPF Master 70-74 097",1,1,1,44,"A"]
["Women AAPF Master 70-74 105 3/4",1,1,1,48,"A"]
["Women AAPF Master 70-74 114 1/2",1,1,1,52,"A"]
["Women AAPF Master 70-74 123 1/2",1,1,1,56,"A"]
["Women AAPF Master 70-74 132 1/4",1,1,1,60,"A"]
["Women AAPF Master 70-74 148 3/4",1,1,1,67.5,"A"]
["Women AAPF Master 70-74 165 1/4",1,1,1,75,"A"]
["Women AAPF Master 70-74 181 3/4",1,1,1,82.5,"A"]
["Women AAPF Master 70-74 198 1/4",1,1,1,90,"A"]
["Women Guest",0,1,0,137.5,"A"]
["Women Novice",0,1,0,137.5,"A"]
["Women Teen",1,1,1,137.5,"A"]
["Women Teen 13-15",1,1,1,137.5,"A"]
["Women Teen 13-15 097",1,1,1,44,"A"]
["Women Teen 13-15 105 3/4",1,1,1,48,"A"]
["Women Teen 13-15 114 1/2",1,1,1,52,"A"]
["Women Teen 13-15 123 1/2",1,1,1,56,"A"]
["Women Teen 13-15 132 1/4",1,1,1,60,"A"]
["Women Teen 13-15 148 3/4",1,1,1,67.5,"A"]
["Women Teen 13-15 165 1/4",1,1,1,75,"A"]
["Women Teen 13-15 181 3/4",1,1,1,82.5,"A"]
["Women Teen 13-15 198 1/4",1,1,1,90,"A"]
["Women Teen 16-17",1,1,1,137.5,"A"]
["Women Teen 16-17 097",1,1,1,44,"A"]
["Women Teen 16-17 105 3/4",1,1,1,48,"A"]
["Women Teen 16-17 114 1/2",1,1,1,52,"A"]
["Women Teen 16-17 123 1/2",1,1,1,56,"A"]
["Women Teen 16-17 132 1/4",1,1,1,60,"A"]
["Women Teen 16-17 148 3/4",1,1,1,67.5,"A"]
["Women Teen 16-17 165 1/4",1,1,1,75,"A"]
["Women Teen 16-17 181 3/4",1,1,1,82.5,"A"]
["Women Teen 16-17 198 1/4",1,1,1,90,"A"]
["Women Teen 18-19",1,1,1,137.5,"A"]
["Women Teen 18-19 097",1,1,1,44,"A"]
["Women Teen 18-19 105 3/4",1,1,1,48,"A"]
["Women Teen 18-19 114 1/2",1,1,1,52,"A"]
["Women Teen 18-19 123 1/2",1,1,1,56,"A"]
["Women Teen 18-19 132 1/4",1,1,1,60,"A"]
["Women Teen 18-19 148 3/4",1,1,1,67.5,"A"]
["Women Teen 18-19 165 1/4",1,1,1,75,"A"]
["Women Teen 18-19 181 3/4",1,1,1,82.5,"A"]
["Women Teen 18-19 198 1/4",1,1,1,90,"A"]
["Women JR",1,1,1,137.5,"A"]
["Women JR 097",1,1,1,44,"A"]
["Women JR 105-3/4",1,1,1,48,"A"]
["Women JR 114-1/2",1,1,1,52,"A"]
["Women JR 123-1/2",1,1,1,56,"A"]
["Women JR 132-1/4",1,1,1,60,"A"]
["Women JR 148-3/4",1,1,1,67.5,"A"]
["Women JR 165-1/4",1,1,1,75,"A"]
["Women JR 181-3/4",1,1,1,82.5,"A"]
["Women JR 198-1/4",1,1,1,90,"A"]
["Women Open",0,0,1,137.5,"A"]
["Women Open 097",0,0,1,44,"A"]
["Women Open 105-3/4",0,0,1,48,"A"]
["Women Open 114-1/2",0,0,1,52,"A"]
["Women Open 123-1/2",0,0,1,56,"A"]
["Women Open 132-1/4",0,0,1,60,"A"]
["Women Open 148-3/4",0,0,1,67.5,"A"]
["Women Open 165-1/4",0,0,1,75,"A"]
["Women Open 181-3/4",0,0,1,82.5,"A"]
["Women Open 198-1/4",0,0,1,90,"A"]
["Women Open SHW",0,0,1,137.5,"A"]
["Women SubMstr",0,0,1,137.5,"I"]
["Women SubMstr 097",0,0,1,44,"A"]
["Women SubMstr 105-3/4",0,0,1,48,"A"]
["Women SubMstr 114-1/2",0,0,1,52,"A"]
["Women SubMstr 123-1/2",0,0,1,56,"A"]
["Women SubMstr 132-1/4",0,0,1,60,"A"]
["Women SubMstr 148-3/4",0,0,1,67.5,"A"]
["Women SubMstr 165-1/4",0,0,1,75,"A"]
["Women SubMstr 181-3/4",0,0,1,82.5,"A"]
["Women SubMstr 198-1/4",0,0,1,90,"A"]
["Women Master",1,1,1,137.5,"A"]
["Women Master (40-49)",1,1,1,137.5,"A"]
["Women Master (50+)",1,1,1,137.5,"A"]
["Women Master 40-44",1,1,1,137.5,"A"]
["Women Master 40-44 097",1,1,1,44,"A"]
["Women Master 40-44 105 3/4",1,1,1,48,"A"]
["Women Master 40-44 114 1/2",1,1,1,52,"A"]
["Women Master 40-44 123 1/2",1,1,1,56,"A"]
["Women Master 40-44 132 1/4",1,1,1,60,"A"]
["Women Master 40-44 148 3/4",1,1,1,67.5,"A"]
["Women Master 40-44 165 1/4",1,1,1,75,"A"]
["Women Master 40-44 181 3/4",1,1,1,82.5,"A"]
["Women Master 40-44 198 1/4",1,1,1,90,"A"]
["Women Master 45-49",1,1,1,137.5,"A"]
["Women Master 45-49 097",1,1,1,44,"A"]
["Women Master 45-49 105 3/4",1,1,1,48,"A"]
["Women Master 45-49 114 1/2",1,1,1,52,"A"]
["Women Master 45-49 123 1/2",1,1,1,56,"A"]
["Women Master 45-49 132 1/4",1,1,1,60,"A"]
["Women Master 45-49 148 3/4",1,1,1,67.5,"A"]
["Women Master 45-49 165 1/4",1,1,1,75,"A"]
["Women Master 45-49 181 3/4",1,1,1,82.5,"A"]
["Women Master 45-49 198 1/4",1,1,1,90,"A"]
["Women Master 50-54",1,1,1,137.5,"A"]
["Women Master 50-54 097",1,1,1,44,"A"]
["Women Master 50-54 105 3/4",1,1,1,48,"A"]
["Women Master 50-54 114 1/2",1,1,1,52,"A"]
["Women Master 50-54 123 1/2",1,1,1,56,"A"]
["Women Master 50-54 132 1/4",1,1,1,60,"A"]
["Women Master 50-54 148 3/4",1,1,1,67.5,"A"]
["Women Master 50-54 165 1/4",1,1,1,75,"A"]
["Women Master 50-54 181 3/4",1,1,1,82.5,"A"]
["Women Master 50-54 198 1/4",1,1,1,90,"A"]
["Women Master 55-59",1,1,1,137.5,"A"]
["Women Master 55-59 097",1,1,1,44,"A"]
["Women Master 55-59 105 3/4",1,1,1,48,"A"]
["Women Master 55-59 114 1/2",1,1,1,52,"A"]
["Women Master 55-59 123 1/2",1,1,1,56,"A"]
["Women Master 55-59 132 1/4",1,1,1,60,"A"]
["Women Master 55-59 148 3/4",1,1,1,67.5,"A"]
["Women Master 55-59 165 1/4",1,1,1,75,"A"]
["Women Master 55-59 181 3/4",1,1,1,82.5,"A"]
["Women Master 55-59 198 1/4",1,1,1,90,"A"]
["Women Master 60-64",1,1,1,137.5,"A"]
["Women Master 60-64 097",1,1,1,44,"A"]
["Women Master 60-64 105 3/4",1,1,1,48,"A"]
["Women Master 60-64 114 1/2",1,1,1,52,"A"]
["Women Master 60-64 123 1/2",1,1,1,56,"A"]
["Women Master 60-64 132 1/4",1,1,1,60,"A"]
["Women Master 60-64 148 3/4",1,1,1,67.5,"A"]
["Women Master 60-64 165 1/4",1,1,1,75,"A"]
["Women Master 60-64 181 3/4",1,1,1,82.5,"A"]
["Women Master 60-64 198 1/4",1,1,1,90,"A"]
["Women Master 65-69",1,1,1,137.5,"A"]
["Women Master 65-69 097",1,1,1,44,"A"]
["Women Master 65-69 105 3/4",1,1,1,48,"A"]
["Women Master 65-69 114 1/2",1,1,1,52,"A"]
["Women Master 65-69 123 1/2",1,1,1,56,"A"]
["Women Master 65-69 132 1/4",1,1,1,60,"A"]
["Women Master 65-69 148 3/4",1,1,1,67.5,"A"]
["Women Master 65-69 165 1/4",1,1,1,75,"A"]
["Women Master 65-69 181 3/4",1,1,1,82.5,"A"]
["Women Master 65-69 198 1/4",1,1,1,90,"A"]
["Women Master 70-74",1,1,1,137.5,"A"]
["Women Master 70-74 097",1,1,1,44,"A"]
["Women Master 70-74 105 3/4",1,1,1,48,"A"]
["Women Master 70-74 114 1/2",1,1,1,52,"A"]
["Women Master 70-74 123 1/2",1,1,1,56,"A"]
["Women Master 70-74 132 1/4",1,1,1,60,"A"]
["Women Master 70-74 148 3/4",1,1,1,67.5,"A"]
["Women Master 70-74 165 1/4",1,1,1,75,"A"]
["Women Master 70-74 181 3/4",1,1,1,82.5,"A"]
["Women Master 70-74 198 1/4",1,1,1,90,"A"]

{"sheet":"Div legend","index":5,"n_rows":36,"n_cols":3,"rows_kept":36,"cut":false,"hidden":false,"merged":[[0,0,1,2]]}
["Divisions"]
[]
["Abbrev","Description","Scoring"]
["M-Nov","Men's Novice",1]
["M-T2ST","T(16-17) Single Tested",1]
["M-T3RT","T(18-19) Raw Tested",1]
["M-M3R","M(50-54) Raw",1]
["M-M3RT","M(50-54) Raw Tested",1]
["M-M4RT","M(55-59) Raw Tested",1]
["M-M3R","M(40-44) Raw",1]
["M-M2RT","M(45-49) Raw Tested",1]
["M-M1RT","M(40-44) Raw Tested",1]
["M-OR","Men's Open Raw",1]
["M-ORT","Men's Open Raw Tested",1]
["M-OS","Open Single Ply",1]
["M-OST","Open Single Ply Tested",1]
["M-SM S","SubM Single Ply",1]
["M-SMST","SubM Single Ply Tested",1]
["M-M4M","M(55-59) Multi Ply",1]
["M-OM","Open Multi Ply",1]
["F-Nov","Women's Novice",1]
["F-OR","Women's Open Raw",1]
["F-ORT","W Open Raw Tested",1]
["F-JRT","WJunior Raw Tested",1]
["F-M1RT","W M(40-44) Raw Tested",1]
["M-JRT","Men's Junior Raw Tested",1]
["M-M4MT","Men's M(55-59)Multi Tested",1]
["M-M1R","M(45-49) Raw "]
["M-M2R ","M (55-59) Raw"]
["F-M1R","W M(40-44) Raw "]
["M-T3R","T(18-19) Raw"]
["F-M2RT","W Sub M (33-39) Raw"]
["M-SM2T","M Sub M (33-39) RawTested"]
["M-SM2R","M Sub M (33-39) Raw"]
["M-T4RT","T(13-15) Raw Tested"]
["M-R","Mens (20-24) Raw"]

{"sheet":"Module1","index":6,"n_rows":0,"n_cols":0,"rows_kept":0,"cut":false,"hidden":true,"merged":[]}

{"sheet":"Sheet1","index":7,"n_rows":0,"n_cols":0,"rows_kept":0,"cut":false,"hidden":false,"merged":[]}